BEGIN:VCALENDAR
VERSION:2.0
PRODID:-//La Maison du Zéro Déchet - ECPv6.15.14//NONSGML v1.0//EN
CALSCALE:GREGORIAN
METHOD:PUBLISH
X-WR-CALNAME:La Maison du Zéro Déchet
X-ORIGINAL-URL:https://lamaisonduzerodechet.org
X-WR-CALDESC:Évènements pour La Maison du Zéro Déchet
REFRESH-INTERVAL;VALUE=DURATION:PT1H
X-Robots-Tag:noindex
X-PUBLISHED-TTL:PT1H
BEGIN:VTIMEZONE
TZID:Europe/Paris
BEGIN:DAYLIGHT
TZOFFSETFROM:+0100
TZOFFSETTO:+0200
TZNAME:CEST
DTSTART:20210328T010000
END:DAYLIGHT
BEGIN:STANDARD
TZOFFSETFROM:+0200
TZOFFSETTO:+0100
TZNAME:CET
DTSTART:20211031T010000
END:STANDARD
BEGIN:DAYLIGHT
TZOFFSETFROM:+0100
TZOFFSETTO:+0200
TZNAME:CEST
DTSTART:20220327T010000
END:DAYLIGHT
BEGIN:STANDARD
TZOFFSETFROM:+0200
TZOFFSETTO:+0100
TZNAME:CET
DTSTART:20221030T010000
END:STANDARD
BEGIN:DAYLIGHT
TZOFFSETFROM:+0100
TZOFFSETTO:+0200
TZNAME:CEST
DTSTART:20230326T010000
END:DAYLIGHT
BEGIN:STANDARD
TZOFFSETFROM:+0200
TZOFFSETTO:+0100
TZNAME:CET
DTSTART:20231029T010000
END:STANDARD
BEGIN:DAYLIGHT
TZOFFSETFROM:+0100
TZOFFSETTO:+0200
TZNAME:CEST
DTSTART:20240331T010000
END:DAYLIGHT
BEGIN:STANDARD
TZOFFSETFROM:+0200
TZOFFSETTO:+0100
TZNAME:CET
DTSTART:20241027T010000
END:STANDARD
END:VTIMEZONE
BEGIN:VEVENT
DTSTART;TZID=Europe/Paris:20230927T190000
DTEND;TZID=Europe/Paris:20230927T220000
DTSTAMP:20260421T004545
CREATED:20230718T113649Z
LAST-MODIFIED:20230908T085139Z
UID:10002624-1695841200-1695852000@lamaisonduzerodechet.org
SUMMARY:1er Acte avec Ticket for change
DESCRIPTION:Tu aimerais bien construire un monde plus durable mais face aux urgences du siècle\, tu te sens mis sur le banc de touche ? Tu te demandes comment agir à ton échelle pour construire le monde de demain\, plus juste et plus durable ? \nNous te proposons de relever ce défi en participant au 1er Acte\, un atelier imaginé par Ticket for Change. \nPas de panique\, il ne s’agit ni de foot ni de compet’ mais d’une rencontre décisive entre tes rêves les plus audacieux et tes talents d’acteur.rice du changement. \n  \nLe 1er Acte c’est :\n🌎 un atelier immersif en 2050\n🍀 3 heures pour libérer ton imaginaire pour le monde de demain\n💪 des exercices collectifs pour découvrir tes talents et tes aspirations professionnelles\n🤩 des idées d’actions concrètes à faire dès la 3e mi-temps \n“Comment pourrions-nous espérer bâtir un monde différent si nous ne sommes pas d’abord capables de l’imaginer ?” Cyril Dion \n  \nSi tu souhaites rejoindre une communauté de milliers d’acteurs et actrices du changement positif\, participe au Match du siècle ! \nNotre futur se joue ensemble ! 🌱 \n  \nINFORMATIONS COMPLÉMENTAIRES\n\nINSCRIPTIONS OBLIGATOIRES (cliquez juste ici)\nVotre inscription vous engage\, merci de nous prévenir 48h en avance en cas d’annulation. \nLes participant·es sont susceptibles d’être photographié·es ou filmé·es. Si tu ne souhaites pas apparaître sur les photos/vidéos\, il suffit de nous prévenir en début d’atelier. \nCet événement se déroulera à la Maison du Zéro Déchet – 1 passage Emma Calvé 75012 Paris. \nAccès métro : Reuilly-Diderot\, Faidherbe-Chaligny et Nation.
URL:https://lamaisonduzerodechet.org/evenements/match-du-siecle-avec-ticket-for-change-5/
LOCATION:La Maison du Zéro Déchet\, 1\, passage Emma Calvé\, Paris\, 75012\, France
CATEGORIES:Atelier pratique
ATTACH;FMTTYPE=image/jpeg:https://lamaisonduzerodechet.org/wp-content/uploads/2023/07/Bannieres-event-site_NEW-6.jpg
END:VEVENT
BEGIN:VEVENT
DTSTART;TZID=Europe/Paris:20230422T140000
DTEND;TZID=Europe/Paris:20230422T170000
DTSTAMP:20260421T004545
CREATED:20230321T153443Z
LAST-MODIFIED:20230321T153443Z
UID:10002558-1682172000-1682182800@lamaisonduzerodechet.org
SUMMARY:Match du siècle avec Ticket for change
DESCRIPTION:Tu aimerais bien construire un monde plus durable mais face aux urgences du siècle\, tu te sens mis sur le banc de touche ? Tu te demandes comment agir à ton échelle pour construire le monde de demain\, plus juste et plus durable ? \nNous te proposons de relever ce défi en participant au Match du siècle\, un atelier imaginé par Ticket for Change. \nPas de panique\, il ne s’agit ni de foot ni de compet’ mais d’une rencontre décisive entre tes rêves les plus audacieux et tes talents d’acteur.rice du changement. \n  \nLe Match du siècle c’est :\n🌎 un atelier immersif en 2050\n🍀 3 heures pour libérer ton imaginaire pour le monde de demain\n💪 des exercices collectifs pour découvrir tes talents et tes aspirations professionnelles\n🤩 des idées d’actions concrètes à faire dès la 3e mi-temps \n“Comment pourrions-nous espérer bâtir un monde différent si nous ne sommes pas d’abord capables de l’imaginer ?” Cyril Dion \n  \nSi tu souhaites rejoindre une communauté de milliers d’acteurs et actrices du changement positif\, participe au Match du siècle ! \nNotre futur se joue ensemble ! 🌱 \n  \nINFORMATIONS COMPLÉMENTAIRES\n\nINSCRIPTIONS OBLIGATOIRES (cliquez juste ici)\nVotre inscription vous engage\, merci de nous prévenir 48h en avance en cas d’annulation. \nLes participant·es sont susceptibles d’être photographié·es ou filmé·es. Si tu ne souhaites pas apparaître sur les photos/vidéos\, il suffit de nous prévenir en début d’atelier. \nCet événement se déroulera à la Maison du Zéro Déchet – 1 passage Emma Calvé 75012 Paris. \nAccès métro : Reuilly-Diderot\, Faidherbe-Chaligny et Nation.
URL:https://lamaisonduzerodechet.org/evenements/match-du-siecle-avec-ticket-for-change-4/
LOCATION:La Maison du Zéro Déchet\, 1\, passage Emma Calvé\, Paris\, 75012\, France
CATEGORIES:Atelier pratique
ATTACH;FMTTYPE=image/jpeg:https://lamaisonduzerodechet.org/wp-content/uploads/2023/03/Bannieres-event-site_NEW3.jpg
END:VEVENT
BEGIN:VEVENT
DTSTART;TZID=Europe/Paris:20230114T140000
DTEND;TZID=Europe/Paris:20230114T170000
DTSTAMP:20260421T004545
CREATED:20221222T133519Z
LAST-MODIFIED:20230103T092632Z
UID:10002478-1673704800-1673715600@lamaisonduzerodechet.org
SUMMARY:Match du siècle avec Ticket for change
DESCRIPTION:Tu aimerais bien construire un monde plus durable mais face aux urgences du siècle\, tu te sens mis sur le banc de touche ? Tu te demandes comment agir à ton échelle pour construire le monde de demain\, plus juste et plus durable ? \nNous te proposons de relever ce défi en participant au Match du siècle\, un atelier imaginé par Ticket for Change. \nPas de panique\, il ne s’agit ni de foot ni de compet’ mais d’une rencontre décisive entre tes rêves les plus audacieux et tes talents d’acteur.rice du changement. \n  \nLe Match du siècle c’est :\n🌎 un atelier immersif en 2050\n🍀 3 heures pour libérer ton imaginaire pour le monde de demain\n💪 des exercices collectifs pour découvrir tes talents et tes aspirations professionnelles\n🤩 des idées d’actions concrètes à faire dès la 3e mi-temps \n“Comment pourrions-nous espérer bâtir un monde différent si nous ne sommes pas d’abord capables de l’imaginer ?” Cyril Dion \n  \nSi tu souhaites rejoindre une communauté de milliers d’acteurs et actrices du changement positif\, participe au Match du siècle ! \nNotre futur se joue ensemble ! 🌱 \n  \nINFORMATIONS COMPLÉMENTAIRES\n\nINSCRIPTIONS OBLIGATOIRES (cliquez juste ici)\nVotre inscription vous engage\, merci de nous prévenir 48h en avance en cas d’annulation. \nLes participant·es sont susceptibles d’être photographié·es ou filmé·es. Si tu ne souhaites pas apparaître sur les photos/vidéos\, il suffit de nous prévenir en début d’atelier. \nCet événement se déroulera à la Maison du Zéro Déchet – 1 passage Emma Calvé 75012 Paris. \nAccès métro : Reuilly-Diderot\, Faidherbe-Chaligny et Nation.
URL:https://lamaisonduzerodechet.org/evenements/match-du-siecle-avec-ticket-for-change-3/
LOCATION:La Maison du Zéro Déchet\, 1\, passage Emma Calvé\, Paris\, 75012\, France
CATEGORIES:Atelier pratique
ATTACH;FMTTYPE=image/jpeg:https://lamaisonduzerodechet.org/wp-content/uploads/2022/12/Bannières-event-site-14.jpg
END:VEVENT
BEGIN:VEVENT
DTSTART;TZID=Europe/Paris:20220917T140000
DTEND;TZID=Europe/Paris:20220917T170000
DTSTAMP:20260421T004545
CREATED:20220711T095050Z
LAST-MODIFIED:20220829T131914Z
UID:10002419-1663423200-1663434000@lamaisonduzerodechet.org
SUMMARY:Match du siècle avec Ticket for change
DESCRIPTION:🌎 Construire un monde plus durable \nTu aimerais bien …Mais face aux urgences du siècle\, tu te sens mis sur le banc de touche ? Tu te demandes comment agir à ton échelle pour construire le monde de demain\, plus juste et plus durable ? \nNous te proposons de relever ce défi en participant au Match du siècle\, le nouvel atelier imaginé par Ticket for Change. \nPas de panique\, il ne s’agit ni de foot ni de compet’ mais d’une rencontre décisive entre tes rêves les plus audacieux et tes talents d’acteur du changement. \nLe Match du siècle c’est :\n🌎 un atelier immersif en 2050\n🍀 3 heures pour libérer ton imaginaire pour le monde de demain\n💪 des exercices collectifs pour découvrir tes talents et tes aspirations professionnelles\n🤩 des idées d’actions concrètes à faire dès la 3e mi-temps \n“Comment pourrions-nous espérer bâtir un monde différent si nous ne sommes pas d’abord capables de l’imaginer ?” Cyril Dion \nRejoins une communauté de milliers d’acteurs du changement positifs\, participes au Match du siècle.\nParce que le futur se joue ensemble ! \n  \nINFORMATIONS COMPLÉMENTAIRES\n\nINSCRIPTIONS OBLIGATOIRES (cliquez juste ici)\nVotre inscription vous engage\, merci de nous prévenir 48h en avance en cas d’annulation. \nLes participant·es sont susceptibles d’être photographié·es ou filmé·es. Si tu ne souhaites pas apparaître sur les photos/vidéos\, il suffit de nous prévenir en début d’atelier. \nCet événement se déroulera le samedi 17 septembre de 14h à 17h à la Maison du Zéro Déchet – 1 passage Emma Calvé 75012 Paris \nAccès métro : Reuilly-Diderot\, Faidherbe-Chaligny et Nation.
URL:https://lamaisonduzerodechet.org/evenements/match-du-siecle-avec-ticket-for-change-2/
LOCATION:La Maison du Zéro Déchet\, 1\, passage Emma Calvé\, Paris\, 75012\, France
CATEGORIES:Atelier pratique
ATTACH;FMTTYPE=image/jpeg:https://lamaisonduzerodechet.org/wp-content/uploads/2022/07/BANNIÈRES-SITE-MZD-4.jpg
END:VEVENT
BEGIN:VEVENT
DTSTART;TZID=Europe/Paris:20220514T140000
DTEND;TZID=Europe/Paris:20220514T170000
DTSTAMP:20260421T004545
CREATED:20220405T153632Z
LAST-MODIFIED:20220429T131418Z
UID:10002385-1652536800-1652547600@lamaisonduzerodechet.org
SUMMARY:Match du siècle avec Ticket for change
DESCRIPTION:🌎 Construire un monde plus durable \nTu aimerais bien …Mais face aux urgences du siècle\, tu te sens mis sur le banc de touche ? Tu te demandes comment agir à ton échelle pour construire le monde de demain\, plus juste et plus durable ? \nNous te proposons de relever ce défi en participant au Match du siècle\, le nouvel atelier imaginé par Ticket for Change. \nPas de panique\, il ne s’agit ni de foot ni de compet’ mais d’une rencontre décisive entre tes rêves les plus audacieux et tes talents d’acteur du changement. \nLe Match du siècle c’est :\n🌎 un atelier immersif en 2050\n🍀 3 heures pour libérer ton imaginaire pour le monde de demain\n💪 des exercices collectifs pour découvrir tes talents et tes aspirations professionnelles\n🤩 des idées d’actions concrètes à faire dès la 3e mi-temps \n“Comment pourrions-nous espérer bâtir un monde différent si nous ne sommes pas d’abord capables de l’imaginer ?” Cyril Dion \nRejoins une communauté de milliers d’acteurs du changement positifs\, participes au Match du siècle.\nParce que le futur se joue ensemble ! \n  \nINFORMATIONS COMPLÉMENTAIRES\n\nINSCRIPTIONS OBLIGATOIRES (cliquez juste ici)\nVotre inscription vous engage\, merci de nous prévenir 48h en avance en cas d’annulation. \nLes participant·es sont susceptibles d’être photographié·es ou filmé·es. Si tu ne souhaites pas apparaître sur les photos/vidéos\, il suffit de nous prévenir en début d’atelier. \nCet événement se déroulera le samedi 14 mai de 14h à 17h à la Maison du Zéro Déchet – 1 passage Emma Calvé 75012 Paris \nAccès métro : Reuilly-Diderot\, Faidherbe-Chaligny et Nation.
URL:https://lamaisonduzerodechet.org/evenements/match-du-siecle-avec-ticket-for-change/
LOCATION:La Maison du Zéro Déchet\, 1\, passage Emma Calvé\, Paris\, 75012\, France
CATEGORIES:Atelier pratique
ATTACH;FMTTYPE=image/jpeg:https://lamaisonduzerodechet.org/wp-content/uploads/2022/04/Bannière-sitePublication-FB-12.jpg
END:VEVENT
END:VCALENDAR