BEGIN:VCALENDAR
VERSION:2.0
PRODID:-//La Maison du Zéro Déchet - ECPv6.15.14//NONSGML v1.0//EN
CALSCALE:GREGORIAN
METHOD:PUBLISH
X-WR-CALNAME:La Maison du Zéro Déchet
X-ORIGINAL-URL:https://lamaisonduzerodechet.org
X-WR-CALDESC:Évènements pour La Maison du Zéro Déchet
REFRESH-INTERVAL;VALUE=DURATION:PT1H
X-Robots-Tag:noindex
X-PUBLISHED-TTL:PT1H
BEGIN:VTIMEZONE
TZID:Europe/Paris
BEGIN:DAYLIGHT
TZOFFSETFROM:+0100
TZOFFSETTO:+0200
TZNAME:CEST
DTSTART:20190331T010000
END:DAYLIGHT
BEGIN:STANDARD
TZOFFSETFROM:+0200
TZOFFSETTO:+0100
TZNAME:CET
DTSTART:20191027T010000
END:STANDARD
BEGIN:DAYLIGHT
TZOFFSETFROM:+0100
TZOFFSETTO:+0200
TZNAME:CEST
DTSTART:20200329T010000
END:DAYLIGHT
BEGIN:STANDARD
TZOFFSETFROM:+0200
TZOFFSETTO:+0100
TZNAME:CET
DTSTART:20201025T010000
END:STANDARD
BEGIN:DAYLIGHT
TZOFFSETFROM:+0100
TZOFFSETTO:+0200
TZNAME:CEST
DTSTART:20210328T010000
END:DAYLIGHT
BEGIN:STANDARD
TZOFFSETFROM:+0200
TZOFFSETTO:+0100
TZNAME:CET
DTSTART:20211031T010000
END:STANDARD
END:VTIMEZONE
BEGIN:VEVENT
DTSTART;TZID=Europe/Paris:20201121T110000
DTEND;TZID=Europe/Paris:20201121T123000
DTSTAMP:20260421T072401
CREATED:20201026T120050Z
LAST-MODIFIED:20201120T114229Z
UID:10001948-1605956400-1605961800@lamaisonduzerodechet.org
SUMMARY:[EN LIGNE] Initiation : Sensibilisation aux menstruations zéro déchet
DESCRIPTION:Le principe\nLes règles zéro déchet\, possible ?\nAvoir ses menstruations dans notre société\, c’est subir toute une série d’achats obligatoires de serviettes et de tampons. Ces derniers nous sont présentés dès le plus jeune âge comme des produits d’hygiène incontournables. Contre toute attente\, nous prenons de plus en plus conscience du poids de ces produits sur notre budget\, notre santé\, notre production de déchet. \nBien heureusement\, de nombreuses solutions confortables et écologiques sont maintenant disponibles. \n \nLe programme\nVenez découvrir les alternatives Zéro Déchet pour la gestion des règles ! \nNous vous présenterons nos solutions menstrues zéro déchet préférées : \n\nla cup\nles serviettes hygiéniques lavables\nla culotte de règles\n\nDans cet atelier\, nous ferons un bref point sur les règles\, leur origine biologique\, leur histoire et leur impact sur notre quotidien. Puis nous testerons l’absorption\, la contenance\, le nettoyage des alternatives aux produits conventionnels. Nous parlerons également confort\, coût\, durabilité\, fuites… Enfin\, nous partagerons nos conseils pour s’équiper et pour organiser l’utilisation des protections périodiques lavables. \nCela vous permettra de tout connaître (ou presque) sur les protections menstruelles zéro déchet ! \nVous pouvez également lire notre article sur le sujet : ici ! \nInscription\nInscription obligatoire ICI  \nLe lien de connexion vous sera envoyé dans le mail confirmation. \nCet événement est en ligne\, en visioconférence. Votre inscription vous engage : les participations sont limitées ainsi\, si vous réservez une place et ne vous connectez pas\, vous empêchez une personne motivée de participer à l’événement. \nEn temps normal\, la programmation est majoritairement financée par les activités de la boutique et de prestations. Hors\, le deuxième confinement oblige La Maison du Zéro Déchet à devoir fermer à nouveau ses portes. Pour continuer à agir\, informer et outiller les citoyen.nes\, l’association fait aujourd’hui appel à votre soutien via votre inscription\, d’un montant de votre choix\, toute contribution sera appréciée.
URL:https://lamaisonduzerodechet.org/evenements/initiation-sensibilisation-aux-menstruations-zero-dechet/
LOCATION:En ligne
CATEGORIES:Conférence en ligne,Initiation
ATTACH;FMTTYPE=image/jpeg:https://lamaisonduzerodechet.org/wp-content/uploads/2018/11/46187637_453622135168875_7024312819541606400_n.jpg
END:VEVENT
END:VCALENDAR