BEGIN:VCALENDAR
VERSION:2.0
PRODID:-//La Maison du Zéro Déchet - ECPv6.15.14//NONSGML v1.0//EN
CALSCALE:GREGORIAN
METHOD:PUBLISH
X-WR-CALNAME:La Maison du Zéro Déchet
X-ORIGINAL-URL:https://lamaisonduzerodechet.org
X-WR-CALDESC:Évènements pour La Maison du Zéro Déchet
REFRESH-INTERVAL;VALUE=DURATION:PT1H
X-Robots-Tag:noindex
X-PUBLISHED-TTL:PT1H
BEGIN:VTIMEZONE
TZID:Europe/Paris
BEGIN:DAYLIGHT
TZOFFSETFROM:+0100
TZOFFSETTO:+0200
TZNAME:CEST
DTSTART:20190331T010000
END:DAYLIGHT
BEGIN:STANDARD
TZOFFSETFROM:+0200
TZOFFSETTO:+0100
TZNAME:CET
DTSTART:20191027T010000
END:STANDARD
BEGIN:DAYLIGHT
TZOFFSETFROM:+0100
TZOFFSETTO:+0200
TZNAME:CEST
DTSTART:20200329T010000
END:DAYLIGHT
BEGIN:STANDARD
TZOFFSETFROM:+0200
TZOFFSETTO:+0100
TZNAME:CET
DTSTART:20201025T010000
END:STANDARD
BEGIN:DAYLIGHT
TZOFFSETFROM:+0100
TZOFFSETTO:+0200
TZNAME:CEST
DTSTART:20210328T010000
END:DAYLIGHT
BEGIN:STANDARD
TZOFFSETFROM:+0200
TZOFFSETTO:+0100
TZNAME:CET
DTSTART:20211031T010000
END:STANDARD
END:VTIMEZONE
BEGIN:VEVENT
DTSTART;TZID=Europe/Paris:20201121T163000
DTEND;TZID=Europe/Paris:20201121T180000
DTSTAMP:20260421T072236
CREATED:20201116T134849Z
LAST-MODIFIED:20201116T134849Z
UID:10002202-1605976200-1605981600@lamaisonduzerodechet.org
SUMMARY:[EN LIGNE] Atelier de Noël : Faire une table de Noël zéro déchet
DESCRIPTION:Le principe\nVoilà Noël qui approche à grands pas… mais aussi tout le gaspillage qu’il suppose ! La Maison du Zéro Déchet vous propose donc une programmation spéciale pour vous aider à célébrer les fêtes de fin d’année de façon plus durable. Ainsi\, vous pouvez participer aux ateliers suivants : initiation à la confection de sapins et décorations de Noël à partir de récup’\, réalisation de calendrier de l’avent zéro déchet\, confection d’emballages cadeaux réutilisables\, etc. \n\nAu programme\nMarre des serviettes en papier jetables et des déco en plastique ? Envie d’une table de Noël effet naturel et sobre ? Armez-vous d’objets de récup’\, de matériel basique et venez apprendre à préparer une table de Noël simple et économique ! Au programme : réalisation de bougeoirs\, de menus\, porte serviettes ainsi que de petits sapins de table et nombreuses propositions de décorations variées. \n\nMatériel nécessaire\nPhotophores/ bougeoirs de Noël \n\nDes pots en verre (type yaourts\, conserves\, etc)\nDu blanc de Meudon\, de la peinture (blanche ou autres couleurs) ou des paillettes et de la colle\nDes bougies sans parfum (type bougies de tables)\nUn crayon papier\nUne règle\nDes modèles de forme type étoile\, renne\, sapin (facultatif)\n\nPetits sapins de table \n\nCarton non imprimés de couleur brut\, blanche ou verte ou à défaut vieux journaux ou magazines\nUn crayon papier\nDes ciseaux\n\nAutres décos présentées (menus\, porte serviette) : \n\nDes oranges ou clémentines et des clous de girofle\nDes bâtons de cannelle\nDes fleurs de badiane aussi appelées anis étoilé\nDes pommes de pain\nDes branches de sapin ou de houx\nDu papier blanc\nDes vieux magazines ou vieux journaux\nDe la ficelle (type rafia ou à défaut autres types)\n\n  \nInformations pratiques\n\nInscription obligatoire ICI \nLe lien de connexion vous sera envoyé dans le mail confirmation. \nCet événement est en ligne\, en visioconférence. Votre inscription vous engage : les participations sont limitées ainsi\, si vous réservez une place et ne vous connectez pas\, vous empêchez une personne motivée de participer à l’événement.
URL:https://lamaisonduzerodechet.org/evenements/en-ligne-atelier-de-noel-faire-une-table-de-noel-zero-dechet/
LOCATION:En ligne
CATEGORIES:Atelier en ligne,Atelier pratique
ATTACH;FMTTYPE=image/jpeg:https://lamaisonduzerodechet.org/wp-content/uploads/2020/11/Faire-une-table-de-Noël-ZD-1.jpg
END:VEVENT
END:VCALENDAR