BEGIN:VCALENDAR
VERSION:2.0
PRODID:-//La Maison du Zéro Déchet - ECPv6.15.14//NONSGML v1.0//EN
CALSCALE:GREGORIAN
METHOD:PUBLISH
X-ORIGINAL-URL:https://lamaisonduzerodechet.org
X-WR-CALDESC:Évènements pour La Maison du Zéro Déchet
REFRESH-INTERVAL;VALUE=DURATION:PT1H
X-Robots-Tag:noindex
X-PUBLISHED-TTL:PT1H
BEGIN:VTIMEZONE
TZID:Europe/Paris
BEGIN:DAYLIGHT
TZOFFSETFROM:+0100
TZOFFSETTO:+0200
TZNAME:CEST
DTSTART:20190331T010000
END:DAYLIGHT
BEGIN:STANDARD
TZOFFSETFROM:+0200
TZOFFSETTO:+0100
TZNAME:CET
DTSTART:20191027T010000
END:STANDARD
BEGIN:DAYLIGHT
TZOFFSETFROM:+0100
TZOFFSETTO:+0200
TZNAME:CEST
DTSTART:20200329T010000
END:DAYLIGHT
BEGIN:STANDARD
TZOFFSETFROM:+0200
TZOFFSETTO:+0100
TZNAME:CET
DTSTART:20201025T010000
END:STANDARD
BEGIN:DAYLIGHT
TZOFFSETFROM:+0100
TZOFFSETTO:+0200
TZNAME:CEST
DTSTART:20210328T010000
END:DAYLIGHT
BEGIN:STANDARD
TZOFFSETFROM:+0200
TZOFFSETTO:+0100
TZNAME:CET
DTSTART:20211031T010000
END:STANDARD
BEGIN:DAYLIGHT
TZOFFSETFROM:+0100
TZOFFSETTO:+0200
TZNAME:CEST
DTSTART:20220327T010000
END:DAYLIGHT
BEGIN:STANDARD
TZOFFSETFROM:+0200
TZOFFSETTO:+0100
TZNAME:CET
DTSTART:20221030T010000
END:STANDARD
END:VTIMEZONE
BEGIN:VEVENT
DTSTART;TZID=Europe/Paris:20210519T183000
DTEND;TZID=Europe/Paris:20210519T200000
DTSTAMP:20260421T052950
CREATED:20210504T135711Z
LAST-MODIFIED:20210505T105233Z
UID:10002300-1621449000-1621454400@lamaisonduzerodechet.org
SUMMARY:[SUR PLACE] Atelier couture à la main : créer ses cotons lavables
DESCRIPTION:Le principe\nCet atelier vous permettra d’apprendre à coudre vous-même vos cotons lavables. Une alternative zéro déchet aux cotons jetables … Et qui plus est\, tellement plus jolie ! Vos cotons seront parfaits pour vous démaquiller\, désinfecter les petits bobos ou faire des compresses. \nCet atelier de couture\, ouvert aux débutant·es\, est l’occasion de repartir avec votre propre création qui vous permettra d’avoir dans votre trousse de toilette un produit indispensable au quotidien et réutilisable à l’infini. \nNos merveilleuses et merveilleux intervenant·es vous montreront des techniques simples pour élaborer 4 cotons lavables grâce à des tissus récupérés ! \nLe plus important est de profiter de cette rencontre pour apprendre les bases de la couture pour faciliter votre démarche Zéro Déchet ! \n\nInformations pratiques\nInscription obligatoire ICI \nLe lien de connexion vous sera envoyé dans le mail de confirmation d’inscription et le jour de l’évènement. \nCet événement est en ligne\, en visioconférence. Votre inscription vous engage : les participations sont limitées ainsi\, si vous réservez une place et ne vous connectez pas\, vous empêchez une personne motivée de participer à l’événement. \nLa Maison du Zéro Déchet a pu réouvrir sa boutique mais la programmation continue en ligne en raison des mesures sanitaires. Cette année\, notre association a été fortement impactée par la crise sanitaire et fait aujourd’hui appel à votre soutien via votre inscription\, d’un minimum de 2 € ou d’un montant de votre choix\, pour continuer à informer et outiller les citoyen.nes aux démarches zéro déchet\, zéro gaspillage.
URL:https://lamaisonduzerodechet.org/evenements/sur-place-atelier-couture-a-la-main-creer-ses-cotons-lavables/
LOCATION:La Maison du Zéro Déchet\, 1\, passage Emma Calvé\, Paris\, 75012\, France
CATEGORIES:Atelier pratique
ATTACH;FMTTYPE=image/jpeg:https://lamaisonduzerodechet.org/wp-content/uploads/2019/08/DSC02602.jpg
END:VEVENT
BEGIN:VEVENT
DTSTART;TZID=Europe/Paris:20201126T183000
DTEND;TZID=Europe/Paris:20201126T200000
DTSTAMP:20260421T052950
CREATED:20201109T105032Z
LAST-MODIFIED:20201109T105432Z
UID:10002193-1606415400-1606420800@lamaisonduzerodechet.org
SUMMARY:[EN LIGNE] Le B.A.-BA de la couture à la main !
DESCRIPTION:Le principe\nLa couture\, c’est Zéro Déchet  !\nUn atelier couture pour les débutant·es pour apprendre les bases de la couture. \nPendant 1 h 30\, venez apprendre le B.A.-BA de la couture\, sans machine\, pour apprendre à faire ourlet\, en finir avec ces chaussettes trouées\, coudre un boutons…! L’occasion de repartir avec pleins de conseils et astuces\, en plus de vos vêtements « tout neuf » ! Vous pourrez réparer vos vêtements\, plutôt que de les jeter ! \n \nL’atelier est bien entendu ouvert à aux débutant·es 😉 ! \nNB : Assurez vous d’avoir du fil\, une aiguille\, des épingles et un bouton ainsi que du tissu type coton (pas élastique) et type maille (chaussette avec un trou par exemple) et de quoi tracer sur le tissu\, pour vous entraîner en ligne grâce aux conseils de nos bénévoles.  \nLe plus important est de profiter de cette rencontre pour apprendre les bases de la couture pour faciliter votre démarche Zéro Déchet ! \nInscription\nInscription obligatoire ICI  \nLe lien de connexion vous sera envoyé dans le mail confirmation. \nCet événement est en ligne\, en visioconférence. Votre inscription vous engage : les participations sont limitées ainsi\, si vous réservez une place et ne vous connectez pas\, vous empêchez une personne motivée de participer à l’événement. \nEn temps normal\, la programmation est majoritairement financée par les activités de la boutique et de prestations. Hors\, le deuxième confinement oblige La Maison du Zéro Déchet à devoir fermer à nouveau ses portes. Pour continuer à agir\, informer et outiller les citoyen.nes\, l’association fait aujourd’hui appel à votre soutien via votre inscription\, d’un montant de votre choix\, toute contribution sera appréciée.
URL:https://lamaisonduzerodechet.org/evenements/en-ligne-le-b-a-ba-de-la-couture-a-la-main-8/
LOCATION:En ligne
CATEGORIES:Atelier en ligne
ATTACH;FMTTYPE=image/jpeg:https://lamaisonduzerodechet.org/wp-content/uploads/2020/09/couture.jpg
END:VEVENT
END:VCALENDAR