BEGIN:VCALENDAR
VERSION:2.0
PRODID:-//La Maison du Zéro Déchet - ECPv6.15.14//NONSGML v1.0//EN
CALSCALE:GREGORIAN
METHOD:PUBLISH
X-WR-CALNAME:La Maison du Zéro Déchet
X-ORIGINAL-URL:https://lamaisonduzerodechet.org
X-WR-CALDESC:Évènements pour La Maison du Zéro Déchet
REFRESH-INTERVAL;VALUE=DURATION:PT1H
X-Robots-Tag:noindex
X-PUBLISHED-TTL:PT1H
BEGIN:VTIMEZONE
TZID:Europe/Paris
BEGIN:DAYLIGHT
TZOFFSETFROM:+0100
TZOFFSETTO:+0200
TZNAME:CEST
DTSTART:20190331T010000
END:DAYLIGHT
BEGIN:STANDARD
TZOFFSETFROM:+0200
TZOFFSETTO:+0100
TZNAME:CET
DTSTART:20191027T010000
END:STANDARD
BEGIN:DAYLIGHT
TZOFFSETFROM:+0100
TZOFFSETTO:+0200
TZNAME:CEST
DTSTART:20200329T010000
END:DAYLIGHT
BEGIN:STANDARD
TZOFFSETFROM:+0200
TZOFFSETTO:+0100
TZNAME:CET
DTSTART:20201025T010000
END:STANDARD
BEGIN:DAYLIGHT
TZOFFSETFROM:+0100
TZOFFSETTO:+0200
TZNAME:CEST
DTSTART:20210328T010000
END:DAYLIGHT
BEGIN:STANDARD
TZOFFSETFROM:+0200
TZOFFSETTO:+0100
TZNAME:CET
DTSTART:20211031T010000
END:STANDARD
END:VTIMEZONE
BEGIN:VEVENT
DTSTART;TZID=Europe/Paris:20201125T173000
DTEND;TZID=Europe/Paris:20201125T200000
DTSTAMP:20260421T072448
CREATED:20201105T095116Z
LAST-MODIFIED:20201124T131633Z
UID:10002186-1606325400-1606334400@lamaisonduzerodechet.org
SUMMARY:Projection-débat "Kiss the ground"
DESCRIPTION:Projection-débat du film Kiss the Ground par Les Alchimistes\n\n\nSoutenu par l’ADEME\, le Réseau Compost Citoyen et le Réseau Compostplus \n\n\n\n  \n\n\nÀ propos de cet événement\n\n\nEt s’il existait une réponse simple et à notre portée pour lutter contre le changement climatique\, reconstituer nos réserves d’eau et nourrir la planète ? Et si cette réponse était sous nos pieds ? \nLes Alchimistes\, en partenariat avec l’ADEME\, le Réseau Compost Citoyen\, et le Réseau Compostplus\, organisent une projection-débat gratuite et en ligne du film Kiss The Ground dédié à l’importance des sols dans nos écosystèmes et à l’agriculture régénérative. \nPour enrichir la projection\, cinq experts interviendront au cours de l’événement : \n– Maxime de Rostolan\, fondateur de Fermes d’Avenir et de Blue Bees ; \n– Cécile Duflot\, Directrice Générale de Oxfam France ; \n– Arnaud Leroy\, Président Directeur Général de l’Ademe ; \n– Mathilde Borne\, Déléguée Générale du Réseau Compostplus ; \n– Audrey Pulvar\, Adjointe Alimentation Durable à la Mairie de Paris. \nKiss The Ground explique en des termes simples pourquoi la fertilité des sols est un enjeu majeur aujourd’hui pour répondre à l’augmentation de la concentration de carbone dans notre atmosphère – autrement dit pour apporter une réponse au changement climatique. \nLes modalités de connexion seront communiquées aux inscrits en amont de la séance. \n\n\n\n\nLes Alchimistes est une entreprise sociale et solidaire qui collecte et valorise les biodéchets afin de les transformer en compost ultra-local et de refertiliser nos sols. Les Alchimistes travaille avec les collectivités\, les écoles\, les restaurateurs\, les hôtels\, les fleuristes afin d’apporter une solution vertueuse à la fin de vie des déchets organiques. Les Alchimistes sont présents dans 8 régions de France. \nL’ADEME est un établissement public sous la tutelle du ministère de la Transition écologique et solidaire et du ministère de l’Enseignement supérieur\, de la Recherche et de l’Innovation. L’ADEME suscite\, anime\, coordonne\, facilite ou réalise des opérations de protection de l’environnement et la maîtrise de l’énergie en France. \nLe Réseau Compost Citoyen est une association nationale qui fait la promotion du compost citoyen sous toutes ses formes afin que chaque individu puisse trier ses déchets fermentescibles et les traiter par un procédé tout à fait naturel et écologique : le compostage. Le réseau compte aujourd’hui plus de 150 adhérents (structures\, collectivités et particuliers) implantés aux « 4 coins de l’hexagone ». \nLe Réseau Compostplus est un réseau national d’échanges qui rassemble élus et techniciens de collectivités territoriales engagées dans le tri à la source des biodéchets. Ce réseau est né de la volonté de renforcer la reconnaissance de la filière des biodéchets au niveau national\, de partager les retours d’expériences et de faire apparaître cette filière comme une solution d’avenir pour la gestion durable de nos déchets. Il a ainsi pour but de pérenniser et promouvoir la valorisation organique. Aujourd’hui\, il compte 40 collectivités membres (soit plus de 13\,5 millions d’habitants) à travers toute la France\, dont 16 sont lauréates de l’appel à projets Territoires Zéro Déchet Zéro Gaspillage. \nLe Mouvement Utopia est depuis 2010 une association d’éducation populaire à but non lucratif\, qui vise notamment à élaborer un projet de société solidaire écologiquement soutenable et convivial dont l’objectif est le « buen vivir ». \nRacine est une entreprise familiale\, leader historique et régional de la transformation de déchets verts en ressources durables (amendements\, terreaux\, substrats\, paillages\, bois énergie). \n\n\nAvec le partenariat de : l’AFAUP\, Zea Earth\, Humus & Associés\, La Coop sur Mer\, La Cité de l’Agriculture Marseille\, Chateauvallon – Liberté. \n 
URL:https://lamaisonduzerodechet.org/evenements/projection-debat-kiss-the-ground/
LOCATION:En ligne
CATEGORIES:Conférence en ligne,Projection-débat
ATTACH;FMTTYPE=image/jpeg:https://lamaisonduzerodechet.org/wp-content/uploads/2020/11/Principale-Kiss-the-ground.jpg
END:VEVENT
END:VCALENDAR