BEGIN:VCALENDAR
VERSION:2.0
PRODID:-//La Maison du Zéro Déchet - ECPv6.15.14//NONSGML v1.0//EN
CALSCALE:GREGORIAN
METHOD:PUBLISH
X-ORIGINAL-URL:https://lamaisonduzerodechet.org
X-WR-CALDESC:Évènements pour La Maison du Zéro Déchet
REFRESH-INTERVAL;VALUE=DURATION:PT1H
X-Robots-Tag:noindex
X-PUBLISHED-TTL:PT1H
BEGIN:VTIMEZONE
TZID:Europe/Paris
BEGIN:DAYLIGHT
TZOFFSETFROM:+0100
TZOFFSETTO:+0200
TZNAME:CEST
DTSTART:20220327T010000
END:DAYLIGHT
BEGIN:STANDARD
TZOFFSETFROM:+0200
TZOFFSETTO:+0100
TZNAME:CET
DTSTART:20221030T010000
END:STANDARD
BEGIN:DAYLIGHT
TZOFFSETFROM:+0100
TZOFFSETTO:+0200
TZNAME:CEST
DTSTART:20230326T010000
END:DAYLIGHT
BEGIN:STANDARD
TZOFFSETFROM:+0200
TZOFFSETTO:+0100
TZNAME:CET
DTSTART:20231029T010000
END:STANDARD
BEGIN:DAYLIGHT
TZOFFSETFROM:+0100
TZOFFSETTO:+0200
TZNAME:CEST
DTSTART:20240331T010000
END:DAYLIGHT
BEGIN:STANDARD
TZOFFSETFROM:+0200
TZOFFSETTO:+0100
TZNAME:CET
DTSTART:20241027T010000
END:STANDARD
END:VTIMEZONE
BEGIN:VEVENT
DTSTART;TZID=Europe/Paris:20230311T150000
DTEND;TZID=Europe/Paris:20230311T170000
DTSTAMP:20260421T002116
CREATED:20230217T125302Z
LAST-MODIFIED:20230217T125302Z
UID:10002530-1678546800-1678554000@lamaisonduzerodechet.org
SUMMARY:Confection de serviettes lavables avec Soie Rouge et la bibliothèque Saint-Eloi
DESCRIPTION:En écho à la journée de lutte pour les droits des femmes\, la bibliothèque Saint-Eloi s’associe à la Maison du Zéro déchet et à Soie Rouge : combattons ensemble la précarité menstruelle !\n  \nAu programme\nEn partenariat avec la bibliothèque Saint-Eloi\, venez découvrir l’association la Soie rouge et apprenez à confectionner des serviettes hygiéniques lavables au bénéfice de personnes en situation de précarité menstruelle ! Le coût d’investissement dans un lot de protections lavables est souvent prohibitif\, surtout pour des personnes aux moyens financiers limités. Face à ce constat\, la Soie rouge organise la confection et la distribution de protections lavables en squats et centres sociaux. \n  \nL’association la Soie rouge\nNée d’une démarche solidaire\, écologique et pérenne\, la Soie rouge fabrique et distribue des produits d’hygiène réutilisables (lingettes et serviettes hygiéniques lavables) à des personnes en situation de précarité. \nCette initiative permet d’éviter que leur santé soit mise en danger par l’achat de protections menstruelles à usage unique coûtant moins cher mais contenant des substances toxiques. L’urgence est donc bien réelle. \nMettre ces produits à disposition\, c’est aussi soulager des personnes à faibles ressources du poids financier des règles qui les oblige chaque mois à choisir entre loyer\, nourriture ou protections hygiéniques. \n  \nMatériel\nLes intervenantes de Soie Rouge viendront avec du matériel mais si vous souhaitez apporter le vôtre\, voici la liste du matériel nécessaire : \n\nDu tissu coton : 5 morceaux de 25 x 21 cm (soit un grand coupon de 45 x 80 cm)\nDu tissu éponge : 10 bandes de 20 x 7\,5 cm (soit un grand coupon de 20 x 75 cm)\nDu tissu PUL (imperméable) : 5 morceaux de 25 x 21 cm (soit un grand coupon de 45 x 80 cm)\nDes boutons pressions pour fermer les serviettes : 2 par modèle\n\n  \nInformations pratiques\n\n👉 INSCRIPTIONS OBLIGATOIRES\nPAR MAIL (bibliotheque.saint-eloi@paris.fr) OU PAR TÉLÉPHONE AU 01 53 44 70 30\nVotre inscription vous engage\, merci de nous prévenir 48h en avance en cas d’annulation. \nLes participant·es sont susceptibles d’être photographié·es ou filmé·es. Si vous ne souhaitez pas apparaître sur les photos/vidéos\, il vous suffit de nous prévenir au début de l’évènement. \nCet événement se déroulera à La Maison du Zéro Déchet – 1 passage Emma Calvé\, 75012 Paris. \nAccès métro : Reuilly-Diderot\, Faidherbe-Chaligny et Nation.
URL:https://lamaisonduzerodechet.org/evenements/confection-de-serviettes-lavables-avec-soie-rouge-et-la-bibliotheque-saint-eloi/
LOCATION:La Maison du Zéro Déchet\, 1\, passage Emma Calvé\, Paris\, 75012\, France
CATEGORIES:Atelier pratique
ATTACH;FMTTYPE=image/jpeg:https://lamaisonduzerodechet.org/wp-content/uploads/2023/02/Bannieres-event-site_NEW-1-1.jpg
END:VEVENT
END:VCALENDAR