BEGIN:VCALENDAR
VERSION:2.0
PRODID:-//La Maison du Zéro Déchet - ECPv6.15.14//NONSGML v1.0//EN
CALSCALE:GREGORIAN
METHOD:PUBLISH
X-ORIGINAL-URL:https://lamaisonduzerodechet.org
X-WR-CALDESC:Évènements pour La Maison du Zéro Déchet
REFRESH-INTERVAL;VALUE=DURATION:PT1H
X-Robots-Tag:noindex
X-PUBLISHED-TTL:PT1H
BEGIN:VTIMEZONE
TZID:Europe/Paris
BEGIN:DAYLIGHT
TZOFFSETFROM:+0100
TZOFFSETTO:+0200
TZNAME:CEST
DTSTART:20220327T010000
END:DAYLIGHT
BEGIN:STANDARD
TZOFFSETFROM:+0200
TZOFFSETTO:+0100
TZNAME:CET
DTSTART:20221030T010000
END:STANDARD
BEGIN:DAYLIGHT
TZOFFSETFROM:+0100
TZOFFSETTO:+0200
TZNAME:CEST
DTSTART:20230326T010000
END:DAYLIGHT
BEGIN:STANDARD
TZOFFSETFROM:+0200
TZOFFSETTO:+0100
TZNAME:CET
DTSTART:20231029T010000
END:STANDARD
BEGIN:DAYLIGHT
TZOFFSETFROM:+0100
TZOFFSETTO:+0200
TZNAME:CEST
DTSTART:20240331T010000
END:DAYLIGHT
BEGIN:STANDARD
TZOFFSETFROM:+0200
TZOFFSETTO:+0100
TZNAME:CET
DTSTART:20241027T010000
END:STANDARD
BEGIN:DAYLIGHT
TZOFFSETFROM:+0100
TZOFFSETTO:+0200
TZNAME:CEST
DTSTART:20250330T010000
END:DAYLIGHT
BEGIN:STANDARD
TZOFFSETFROM:+0200
TZOFFSETTO:+0100
TZNAME:CET
DTSTART:20251026T010000
END:STANDARD
BEGIN:DAYLIGHT
TZOFFSETFROM:+0100
TZOFFSETTO:+0200
TZNAME:CEST
DTSTART:20260329T010000
END:DAYLIGHT
BEGIN:STANDARD
TZOFFSETFROM:+0200
TZOFFSETTO:+0100
TZNAME:CET
DTSTART:20261025T010000
END:STANDARD
END:VTIMEZONE
BEGIN:VEVENT
DTSTART;TZID=Europe/Paris:20250402T190000
DTEND;TZID=Europe/Paris:20250402T220000
DTSTAMP:20260420T231648
CREATED:20250310T093946Z
LAST-MODIFIED:20250310T094048Z
UID:10002963-1743620400-1743631200@lamaisonduzerodechet.org
SUMMARY:Conférence gesticulée avec Mathieu Delmais : "De la fourche à la fourchette... Non ! L'inverse !"
DESCRIPTION:Venez assister à une conférence gesticulée avec Mathieu Delmais pour une Sécurité Sociale de l’alimentation\, organisé par Attac 11\, Attac 12 et La Marmite Rouge !\n\n\n\n\n\n\n\n\n\n\n\nFace aux désastres du système agroalimentaire industriel\, de nombreuses initiatives ont fleuri pour produire et consommer différemment : local\, équitable\, biologique\, agroécologique\, en circuits courts… Et si l’agroindustrie avait en fait besoin de celles-ci ? A partir d’une analyse de leurs réussites et échecs\, découvrez la réflexion qui amène à une Sécurité sociale de l’alimentation.. \n  \nLa conférence « De la fourche à la fourchette… Non ! L’inverse !! » invite à repenser le système alimentaire en partant des besoins des consommateur.ices\, plutôt qu’en suivant les circuits alimentaires traditionnels. Le conférencier\, Mathieu\, agronome engagé pour la souveraineté alimentaire\, présente ses réflexions sur la nécessité d’une transformation profonde de l’agriculture et de l’alimentation\, en partant du droit à l’alimentation et de la démocratie alimentaire. \nCette conférence explore l’évolution de la réflexion autour de la Sécurité sociale de l’alimentation\, un projet collectif qui propose de garantir un accès universel à une alimentation de qualité à travers un système de cotisation et de conventionnement démocratique. Ce modèle s’inspire des principes fondamentaux de l’égalité en France et ambitionne de généraliser l’accès à une alimentation choisie\, respectueuse des critères sociaux\, économiques et environnementaux. \nMathieu revient sur les enjeux actuels de l’agriculture industrielle\, les inégalités alimentaires en France\, et les alternatives durables pour nourrir équitablement la population. \n  \n  \nInformations pratiques\n\n👉 INSCRIPTIONS OBLIGATOIRES  (cliquez juste ici)\n\nVotre inscription vous engage\, merci de nous prévenir minimum 48h en avance en cas d’annulation. \nLes participant·es sont susceptibles d’être photographié·es ou filmé·es. Si vous ne souhaitez pas apparaître sur les photos/vidéos\, il vous suffit de nous prévenir au début de l’évènement. \nCet événement se déroulera à La Maison du Zéro Déchet – 1 passage Emma Calvé\, 75012 Paris. \nAccès métro : Reuilly-Diderot\, Faidherbe-Chaligny et Nation.
URL:https://lamaisonduzerodechet.org/evenements/conference-gesticulee-avec-mathieu-delmais-de-la-fourche-a-la-fourchette-non-linverse/
LOCATION:La Maison du Zéro Déchet\, 1\, passage Emma Calvé\, Paris\, 75012\, France
CATEGORIES:Conférence
ATTACH;FMTTYPE=image/jpeg:https://lamaisonduzerodechet.org/wp-content/uploads/2025/03/Bannieres-Avr-Jun-Combinaison-5-17.jpg
END:VEVENT
BEGIN:VEVENT
DTSTART;TZID=Europe/Paris:20231207T190000
DTEND;TZID=Europe/Paris:20231207T210000
DTSTAMP:20260420T231648
CREATED:20231114T095132Z
LAST-MODIFIED:20231114T095132Z
UID:10002692-1701975600-1701982800@lamaisonduzerodechet.org
SUMMARY:Atelier Epop& - Sapin en plastique ou sapin en sapin ?
DESCRIPTION:Wifi ou 4G ? Canette ou bouteille ? Livre ou liseuse ? Tote bag ou sac en plastique ? \nBercés par les mots d’ordre simplistes et par les sirènes du greenwashing\, il nous arrive tous de céder aux idées reçues en matière d’écologie et de faire des choix contreproductifs qui peuvent conduire à des transferts de pollution. \nA travers l’étude de cas concrets\, Pierre Rouvière et Christophe Gilabert se proposent de nous initier à l’éco-conception\, qui implique de considérer toutes les étapes du cycle de vie d’un produit\, depuis l’extraction des matières premières jusqu’à son élimination en fin de vie. \n​Un atelier proposé par l’institut des futurs souhaitables pour mieux consommer et affronter l’éco-angoisse des fêtes de Noël. \n  \nQui est Pierre Rouvière ?\nPierre Rouvière est ingénieur en éco-conception. Il est l’auteur de Ecolo mon cul ! (éditions Eyrolles)\, en collaboration avec Barnabé Crespin-Pommier. \nQui est Christophe Gilabert ?\nChristophe Gilabert est designer industriel spécialisé en éco-conception. \n  \n\n  \nL’institut des futurs souhaitables\n\n\n\n\nConscient des métamorphoses du monde actuel\, l’Institut des Futurs souhaitables est une association qui vise à promouvoir une approche prospective pourvoyeuse\, pour toutes et tous\, de moyens de construction d’un avenir désirable. Leur émergence repose sur une philosophie hybride et une dynamique d’anticipation singulière au cœur desquelles chacun.e est invité.e à : \n\n\n\n\n\nApprendre du passé et se projeter dans les futurs afin de concevoir les souhaitables\nS’inspirer du vivant pour inventer des solutions résilientes\nAdopter des stratégies de discernement et partager des armes de constructions massives pour passer outre les incertitudes et libérer l’action\n\n\n\n  \n  \nInformations pratiques\n\n👉 INSCRIPTIONS OBLIGATOIRES  (cliquez juste ici)\n\nVotre inscription vous engage\, merci de nous prévenir minimum 48h en avance en cas d’annulation. \nLes participant·es sont susceptibles d’être photographié·es ou filmé·es. Si vous ne souhaitez pas apparaître sur les photos/vidéos\, il vous suffit de nous prévenir au début de l’évènement. \nCet événement se déroulera à La Maison du Zéro Déchet – 1 passage Emma Calvé\, 75012 Paris. \nAccès métro : Reuilly-Diderot\, Faidherbe-Chaligny et Nation.
URL:https://lamaisonduzerodechet.org/evenements/atelier-epop-sapin-en-plastique-ou-sapin-en-sapin/
LOCATION:La Maison du Zéro Déchet\, 1\, passage Emma Calvé\, Paris\, 75012\, France
CATEGORIES:Conférence
ATTACH;FMTTYPE=image/jpeg:https://lamaisonduzerodechet.org/wp-content/uploads/2023/11/Visuels-evenements-Epop-S2.jpg
END:VEVENT
BEGIN:VEVENT
DTSTART;TZID=Europe/Paris:20231107T190000
DTEND;TZID=Europe/Paris:20231107T210000
DTSTAMP:20260420T231648
CREATED:20231010T152929Z
LAST-MODIFIED:20231010T152929Z
UID:10002663-1699383600-1699390800@lamaisonduzerodechet.org
SUMMARY:Conférence avec Corinne Morel-Darleux : "Gymnastique des confins"
DESCRIPTION:Venez assister à une conférence avec Corinne Morel-Darleux à l’occasion de la sortie de son nouvel ouvrage « Alors\, nous irons trouver la beauté ailleurs »\n\nEn 2019 paraissait un petit livre au nom aussi joli qu’énigmatique\, en forme d’adage\, comme un secret de sagesse qu’on a aimé partager autour de nous. « Plutôt couler en beauté que flotter sans grâce » évoquait la traversée de nos temps difficiles\, le refus de parvenir\, la simplicité volontaire\, le recours à la littérature et aux nouveaux imaginaires comme boussole et bouée de sauvetage.\n\n\n\n\n\n\n\n\n\n\nDéjà\, pas mal de gymnastique entre les questionnements intimes et les analyses politico-philosophiques\, entre les constats plombants et la conviction qu’il existe des chemins de joie et de résilience. On en ressortait à la fois sonné et revigoré. \nA l’automne 2023 sort « Alors\, nous irons trouver la beauté ailleurs » qui en est un peu la suite. Il parle de littérature\, de rêves\, de folie\, d’imaginaire\, de broderie\, d’Inde\, de prison\, de décroissance\, des soulèvements de la terre\, du Rojava\, de changements de perspective\, de gymnastique des confins (vous comprendrez enfin de quoi il s’agit)\, de tropiques et d’actions performatives. \nBref\, Corinne Morel-Darleux vient échanger avec nous sur tous ces sujets\, et on s’en réjouit. \n \nConnaissez-vous Corinne Morel-Darleux ?\nCorinne Morel Darleux est une autrice et militante « tendance romantique révolutionnaire » :). Elle vit et écrit au pied du Vercors. D’abord consultante pour des grandes entreprises du CAC 40\, les réalités de cette expérience la pousseront à s’engager en politique et à défendre la nécessité d’une radicalité écologique. Élue dans la Drôme pendant dix ans\, elle est une militante de terrain. Elle se consacre aujourd’hui à l’écriture\, à travers ses chroniques pour Reporterre\, le magazine écologiste en ligne ou encore Philosophie Magazine\, CQFD\, Socialter\, ImagineDemain. Elle publie des essais aux éditions Libertalia\, des romans jeunesse et adultes\, dont La Sauvagière aux éditions Dalva. \n  \nInformations pratiques\n\n👉 INSCRIPTIONS OBLIGATOIRES  (cliquez juste ici)\n\nVotre inscription vous engage\, merci de nous prévenir minimum 48h en avance en cas d’annulation. \nLes participant·es sont susceptibles d’être photographié·es ou filmé·es. Si vous ne souhaitez pas apparaître sur les photos/vidéos\, il vous suffit de nous prévenir au début de l’évènement. \nCet événement se déroulera à La Maison du Zéro Déchet – 1 passage Emma Calvé\, 75012 Paris. \nAccès métro : Reuilly-Diderot\, Faidherbe-Chaligny et Nation.
URL:https://lamaisonduzerodechet.org/evenements/conference-avec-corinne-morel-darleux-gymnastique-des-confins/
LOCATION:La Maison du Zéro Déchet\, 1\, passage Emma Calvé\, Paris\, 75012\, France
CATEGORIES:Conférence
ATTACH;FMTTYPE=image/jpeg:https://lamaisonduzerodechet.org/wp-content/uploads/2023/10/Bannieres-event-site_NEW15.jpg
END:VEVENT
END:VCALENDAR