BEGIN:VCALENDAR
VERSION:2.0
PRODID:-//La Maison du Zéro Déchet - ECPv6.15.14//NONSGML v1.0//EN
CALSCALE:GREGORIAN
METHOD:PUBLISH
X-ORIGINAL-URL:https://lamaisonduzerodechet.org
X-WR-CALDESC:Évènements pour La Maison du Zéro Déchet
REFRESH-INTERVAL;VALUE=DURATION:PT1H
X-Robots-Tag:noindex
X-PUBLISHED-TTL:PT1H
BEGIN:VTIMEZONE
TZID:Europe/Paris
BEGIN:DAYLIGHT
TZOFFSETFROM:+0100
TZOFFSETTO:+0200
TZNAME:CEST
DTSTART:20190331T010000
END:DAYLIGHT
BEGIN:STANDARD
TZOFFSETFROM:+0200
TZOFFSETTO:+0100
TZNAME:CET
DTSTART:20191027T010000
END:STANDARD
BEGIN:DAYLIGHT
TZOFFSETFROM:+0100
TZOFFSETTO:+0200
TZNAME:CEST
DTSTART:20200329T010000
END:DAYLIGHT
BEGIN:STANDARD
TZOFFSETFROM:+0200
TZOFFSETTO:+0100
TZNAME:CET
DTSTART:20201025T010000
END:STANDARD
BEGIN:DAYLIGHT
TZOFFSETFROM:+0100
TZOFFSETTO:+0200
TZNAME:CEST
DTSTART:20210328T010000
END:DAYLIGHT
BEGIN:STANDARD
TZOFFSETFROM:+0200
TZOFFSETTO:+0100
TZNAME:CET
DTSTART:20211031T010000
END:STANDARD
BEGIN:DAYLIGHT
TZOFFSETFROM:+0100
TZOFFSETTO:+0200
TZNAME:CEST
DTSTART:20220327T010000
END:DAYLIGHT
BEGIN:STANDARD
TZOFFSETFROM:+0200
TZOFFSETTO:+0100
TZNAME:CET
DTSTART:20221030T010000
END:STANDARD
END:VTIMEZONE
BEGIN:VEVENT
DTSTART;TZID=Europe/Paris:20210227T143000
DTEND;TZID=Europe/Paris:20210227T160000
DTSTAMP:20260421T063018
CREATED:20210203T092237Z
LAST-MODIFIED:20210203T092237Z
UID:10002265-1614436200-1614441600@lamaisonduzerodechet.org
SUMMARY:[EN LIGNE] Atelier : fabrication de déodorant & dentifrice
DESCRIPTION:Le principe\nVous êtes à la recherche d’un atelier pour apprendre à fabriquer vous-même les produits de votre salle de bain ? Participez à cet atelier pour créer votre déodorant et dentifrice ! C’est en effet l’occasion d’avoir\, après 1h30 de partage pleins de conseils et astuces\, en plus de vos produits « maison » ! \nMais au fait\, pourquoi faire son propre déodorant et son propre dentifrice ? \n\nPour éviter les emballages plastiques : beaucoup de marques proposent leur déodorant et dentifrices en emballage plastique. Ils sont souvent “sophistiqués” et possèdent donc un sac à dos écologique très lourd.\nPour éviter les ingrédients nocifs et autres parfums artificiels altérant l’environnement\, notre santé et même parfois\, le comble\, notre corps lui-même. Sans oublier celle du porte-monnaie qui se vide au fur et à mesure des achats…!\nPour le plaisir de personnaliser son produit et éviter de tomber dans les pièges du marketing des industriels (“des dents plus blanches que blanches ?”) qui s’en prennent à notre portefeuille !\n\nLors de cet atelier\, nos merveilleux intervenants te proposeront les recettes suivantes : \n\nConfectionner son propre déodorant façon « crème »\nConfectionner sa pâte à dentifrice avec un ingrédient simple : l’argile blanche\n\nN.B : Les ingrédients nécessaires sont : huile de coco / bicarbonate de soude / argile blanche / fécule de mais / huile de coco / bicarbonate de soude / argile blanche / beurre de karité / huiles essentielles palmarosa/tea tree (optionnel) \nInscription\nInscription obligatoire ICI  \nLe lien de connexion vous sera envoyé le jour de l’évènement. \nCet événement est en ligne\, en visioconférence. Votre inscription vous engage : les participations sont limitées ainsi\, si vous réservez une place et ne vous connectez pas\, vous empêchez une personne motivée de participer à l’événement. \nLa Maison du Zéro Déchet a pu réouvrir sa boutique mais la programmation continue en ligne en raison des mesures sanitaires. Cette année\, notre association a été fortement impactée par la crise sanitaire et fait aujourd’hui appel à votre soutien via votre inscription\, d’un montant de votre choix\, pour continuer à informer et outiller les citoyen.nes aux démarches zéro déchet\, zéro gaspillage
URL:https://lamaisonduzerodechet.org/evenements/en-ligne-atelier-fabrication-de-deodorant-dentifrice-2/
LOCATION:En ligne
CATEGORIES:Atelier en ligne
ATTACH;FMTTYPE=image/jpeg:https://lamaisonduzerodechet.org/wp-content/uploads/2017/09/20633867_593264047730496_3963269956732190720_n-e1571848770104.jpg
END:VEVENT
BEGIN:VEVENT
DTSTART;TZID=Europe/Paris:20210123T143000
DTEND;TZID=Europe/Paris:20210123T160000
DTSTAMP:20260421T063018
CREATED:20201222T101101Z
LAST-MODIFIED:20201222T101101Z
UID:10002241-1611412200-1611417600@lamaisonduzerodechet.org
SUMMARY:[EN LIGNE] Initiation : Beauté durable et salle de bain minimaliste
DESCRIPTION:Le principe :\nUn gel douche\, un nettoyant visage\, un shampooing et un après-shampooing. Déjà 4 bouteilles en plastique dans la douche avec des composants louches à l’intérieur. Sans compter les produits occasionnels\, un ou deux masques\, des gommages. Puis la crème de jour\, de nuit\, la lotion\, le sérum\, le démaquillant\, le dentifrice\, le produit coiffant… 😱😱 \nEst-ce qu’on a vraiment besoin de tout ça ? \nPetit à petit\, n’essayerait-on pas d’éliminer plastiques et toxiques de notre salle de bain ? \nPas d’atelier pratique ici\, simplement un partage d’expériences et de solutions autour d’une routine beauté plus simple\, plus saine\, respectueuse de la peau et de la planète (et de notre porte-monnaie). On parlera des étiquettes\, des ingrédients à éviter\, de l’usage des huiles végétales et de la saponification à froid. Entre autres ! \nVous allez :\n\ninterroger vos habitudes de consommation\,\nvous désencombrer\,\nprendre soin de votre peau\net surtout de vous-même et de notre planète !\n\nInscription\nInscription obligatoire ICI  \nLe lien de connexion vous sera envoyé le jour de l’évènement. \nCet événement est en ligne\, en visioconférence. Votre inscription vous engage : les participations sont limitées ainsi\, si vous réservez une place et ne vous connectez pas\, vous empêchez une personne motivée de participer à l’événement. \nLa Maison du Zéro Déchet a pu réouvrir sa boutique mais la programmation continue en ligne en raison des mesures sanitaires. Cette année\, notre association a été fortement impactée par la crise sanitaire et fait aujourd’hui appel à votre soutien via votre inscription\, d’un montant de votre choix\, pour continuer à informer et outiller les citoyen.nes aux démarches zéro déchet\, zéro gaspillage
URL:https://lamaisonduzerodechet.org/evenements/en-ligne-initiation-beaute-durable-et-salle-de-bain-minimaliste-2/
LOCATION:En ligne
CATEGORIES:Conférence en ligne,Initiation
ATTACH;FMTTYPE=image/png:https://lamaisonduzerodechet.org/wp-content/uploads/2018/10/image.png
END:VEVENT
BEGIN:VEVENT
DTSTART;TZID=Europe/Paris:20210109T143000
DTEND;TZID=Europe/Paris:20210109T160000
DTSTAMP:20260421T063018
CREATED:20201222T092307Z
LAST-MODIFIED:20210105T093642Z
UID:10002237-1610202600-1610208000@lamaisonduzerodechet.org
SUMMARY:[EN LIGNE] Atelier DIY Lessive
DESCRIPTION:Le principe\nFaire sa propre lessive liquide\, sans produits chimiques\, sans se ruiner et SURTOUT en réduisant ses déchets\, c’est facile et surtout c’est accessible à tous !   \nVoici un atelier pour vous initier aux alternatives Zero Waste et à la lessive classique 🙂 \nVous pourrez apprendre à faire votre propre lessive ! C’est simple\, rapide et économique. Vous aurez votre produit « maison » et aussi avec plein de trucs et astuces. L’occasion de dire #CestMoiQuiLaiFait. \nLe programme\nLors de cet atelier\, nos merveilleux intervenants vous proposeront les recettes suivantes : \n\nLessive au savon de Marseille\, le vrai.\n\nMatériels nécessaire : \n\n1\,5 litre d’eau du robinet\n10 gr de savon de Marseille  râpé en copeaux (à l’aide d’un économe)\n1 càc de bicarbonate de soude technique ou alimentaire\n\nInscription\nInscription obligatoire ICI  \nLe lien de connexion vous sera envoyé le jour de l’évènement. \nCet événement est en ligne\, en visioconférence. Votre inscription vous engage : les participations sont limitées ainsi\, si vous réservez une place et ne vous connectez pas\, vous empêchez une personne motivée de participer à l’événement. \nLa Maison du Zéro Déchet a pu réouvrir sa boutique mais la programmation continue en ligne en raison des mesures sanitaires. Cette année\, notre association a été fortement impactée par la crise sanitaire et fait aujourd’hui appel à votre soutien via votre inscription\, d’un montant de votre choix\, pour continuer à informer et outiller les citoyen.nes aux démarches zéro déchet\, zéro gaspillage.
URL:https://lamaisonduzerodechet.org/evenements/en-ligne-atelier-diy-lessive/
LOCATION:En ligne
CATEGORIES:Atelier en ligne
ATTACH;FMTTYPE=image/jpeg:https://lamaisonduzerodechet.org/wp-content/uploads/2020/11/istockphoto-515062904-170667a.jpg
END:VEVENT
BEGIN:VEVENT
DTSTART;TZID=Europe/Paris:20201031T143000
DTEND;TZID=Europe/Paris:20201031T160000
DTSTAMP:20260421T063019
CREATED:20201007T135148Z
LAST-MODIFIED:20201030T115127Z
UID:10002177-1604154600-1604160000@lamaisonduzerodechet.org
SUMMARY:[EN LIGNE] Rencontre : Beauté durable et salle de bain minimaliste 
DESCRIPTION: Beauté durable et salle de bain minimaliste\nUn gel douche\, un nettoyant visage\, un shampooing et un après-shampooing. Déjà 4 bouteilles en plastique dans la douche avec des composants louches à l’intérieur. Sans compter les produits occasionnels\, un ou deux masques\, des gommages. Puis la crème de jour\, de nuit\, la lotion\, le sérum\, le démaquillant\, le dentifrice\, le produit coiffant… 😱😱 \nEst-ce qu’on a vraiment besoin de tout ça ? \nPetit à petit\, n’essayerait-on pas d’éliminer plastiques et toxiques de notre salle de bain ? \nPas d’atelier pratique ici\, simplement un partage d’expériences et de solutions autour d’une routine beauté plus simple\, plus saine\, respectueuse de la peau et de la planète (et de notre porte-monnaie). On parlera des étiquettes\, des ingrédients à éviter\, de l’usage des huiles végétales et de la saponification à froid. Entre autres ! \nViens donc :\n\ninterroger tes habitudes de consommation\,\nte désencombrer\,\nprendre soin de ta peau\net surtout de toi-même et de notre planète !\n\nPour aller plus loin n’hésite pas à t’inscrire au ateliers pratiques : \n\nFabrique tes propres déodorant et dentifrice\nFabrique tes propres cotons lavables\nFabrique ton propre baume à lèvres et gommage\n\nInformations complémentaires\nCet événement est gratuit. Cependant\, ton inscription est un engagement. Ainsi\, si tu réserves une place et ne viens pas\, tu empêches une personne motivée de participer à l’événement. En cas d’empêchement\, merci de prévenir au plus tard 48h pour que nous puissions prévenir une personne sur liste d’attente. \nLes participant·es sont susceptibles d’être photographié·es ou filmé·es. Si tu ne souhaites pas apparaître sur les photos/vidéos\, il suffit de nous prévenir en début d’atelier. \nLa mention « Out of stock » ou « Plus en stock » signifie que l’événement est complet. \nTous nos ateliers sont animés par des bénévoles\, la participation demandée permet de couvrir les frais liés aux achats de matériels nécessaires.
URL:https://lamaisonduzerodechet.org/evenements/rencontre-beaute-durable-et-salle-de-bain-minimaliste/
LOCATION:La Maison du Zéro Déchet\, 1\, passage Emma Calvé\, Paris\, 75012\, France
CATEGORIES:Conférence en ligne,Rencontre
ATTACH;FMTTYPE=image/png:https://lamaisonduzerodechet.org/wp-content/uploads/2018/10/image.png
END:VEVENT
END:VCALENDAR