BEGIN:VCALENDAR
VERSION:2.0
PRODID:-//La Maison du Zéro Déchet - ECPv6.15.14//NONSGML v1.0//EN
CALSCALE:GREGORIAN
METHOD:PUBLISH
X-ORIGINAL-URL:https://lamaisonduzerodechet.org
X-WR-CALDESC:Évènements pour La Maison du Zéro Déchet
REFRESH-INTERVAL;VALUE=DURATION:PT1H
X-Robots-Tag:noindex
X-PUBLISHED-TTL:PT1H
BEGIN:VTIMEZONE
TZID:Europe/Paris
BEGIN:DAYLIGHT
TZOFFSETFROM:+0100
TZOFFSETTO:+0200
TZNAME:CEST
DTSTART:20240331T010000
END:DAYLIGHT
BEGIN:STANDARD
TZOFFSETFROM:+0200
TZOFFSETTO:+0100
TZNAME:CET
DTSTART:20241027T010000
END:STANDARD
BEGIN:DAYLIGHT
TZOFFSETFROM:+0100
TZOFFSETTO:+0200
TZNAME:CEST
DTSTART:20250330T010000
END:DAYLIGHT
BEGIN:STANDARD
TZOFFSETFROM:+0200
TZOFFSETTO:+0100
TZNAME:CET
DTSTART:20251026T010000
END:STANDARD
BEGIN:DAYLIGHT
TZOFFSETFROM:+0100
TZOFFSETTO:+0200
TZNAME:CEST
DTSTART:20260329T010000
END:DAYLIGHT
BEGIN:STANDARD
TZOFFSETFROM:+0200
TZOFFSETTO:+0100
TZNAME:CET
DTSTART:20261025T010000
END:STANDARD
END:VTIMEZONE
BEGIN:VEVENT
DTSTART;TZID=Europe/Paris:20250419T143000
DTEND;TZID=Europe/Paris:20250419T163000
DTSTAMP:20260421T020628
CREATED:20250320T182007Z
LAST-MODIFIED:20250320T182007Z
UID:10002969-1745073000-1745080200@lamaisonduzerodechet.org
SUMMARY:Garder son smartphone plus de 2\,5 ans ... souhaitable et possible ?
DESCRIPTION:Intervention\n\n\n\n\nL’association Electrocycle a participé à une étude co-financée par l’ADEME durant 2 années visant à développer le réemploi des « vieux »* smartphones en explorant le sujet de l’obsolescence logicielle. \nDe nombreux ateliers « sérendipitiens » ou de « sobriété numérique » ont permis à l’association de développer une expertise sur le changement de système d’exploitation et les solutions alternatives aux services proposés par Google. Nous souhaiterions partager les résultats de cette étude avec les personnes intéressées par l’allongement de la durée de vie des smartphones\, les logiciels libres et l’économie de la fonctionnalité. \nUne occasion également : \n\nD’évoquer les freins\, voire les blocages auxquels ils ont été confrontés.\nDe parler des perspectives identifiées.\nDe répondre aux questions que certains se poseraient sur le sujet de la sobriété numérique.\n\nIls vous permettront également de manipuler certains des smartphones pour lesquels ils ont pu installer des systèmes alternatifs à Android. \n*smartphones âgés de plus de 4 ans. \n\n\n\nInformations pratiques\n\n\n\n👉 INSCRIPTIONS OBLIGATOIRES (cliquez juste ici)\nLes participant·es sont susceptibles d’être photographié·es ou filmé·es. Si vous ne souhaitez pas apparaître sur les photos/vidéos\, il vous suffit de nous prévenir au début de l’évènement. \nCet événement se déroulera à La Maison du Zéro Déchet – 1 passage Emma Calvé\, 75012 Paris. \nAccès métro : Reuilly-Diderot\, Faidherbe-Chaligny et Nation.
URL:https://lamaisonduzerodechet.org/evenements/intervention-electrocycle/
LOCATION:La Maison du Zéro Déchet\, 1\, passage Emma Calvé\, Paris\, 75012\, France
CATEGORIES:Atelier pratique,Intelligence collective
ATTACH;FMTTYPE=image/jpeg:https://lamaisonduzerodechet.org/wp-content/uploads/2025/03/Bannieres-Combinaison-1-3.jpg
END:VEVENT
END:VCALENDAR