BEGIN:VCALENDAR
VERSION:2.0
PRODID:-//La Maison du Zéro Déchet - ECPv6.15.14//NONSGML v1.0//EN
CALSCALE:GREGORIAN
METHOD:PUBLISH
X-WR-CALNAME:La Maison du Zéro Déchet
X-ORIGINAL-URL:https://lamaisonduzerodechet.org
X-WR-CALDESC:Évènements pour La Maison du Zéro Déchet
REFRESH-INTERVAL;VALUE=DURATION:PT1H
X-Robots-Tag:noindex
X-PUBLISHED-TTL:PT1H
BEGIN:VTIMEZONE
TZID:Europe/Paris
BEGIN:DAYLIGHT
TZOFFSETFROM:+0100
TZOFFSETTO:+0200
TZNAME:CEST
DTSTART:20220327T010000
END:DAYLIGHT
BEGIN:STANDARD
TZOFFSETFROM:+0200
TZOFFSETTO:+0100
TZNAME:CET
DTSTART:20221030T010000
END:STANDARD
BEGIN:DAYLIGHT
TZOFFSETFROM:+0100
TZOFFSETTO:+0200
TZNAME:CEST
DTSTART:20230326T010000
END:DAYLIGHT
BEGIN:STANDARD
TZOFFSETFROM:+0200
TZOFFSETTO:+0100
TZNAME:CET
DTSTART:20231029T010000
END:STANDARD
BEGIN:DAYLIGHT
TZOFFSETFROM:+0100
TZOFFSETTO:+0200
TZNAME:CEST
DTSTART:20240331T010000
END:DAYLIGHT
BEGIN:STANDARD
TZOFFSETFROM:+0200
TZOFFSETTO:+0100
TZNAME:CET
DTSTART:20241027T010000
END:STANDARD
END:VTIMEZONE
BEGIN:VEVENT
DTSTART;TZID=Europe/Paris:20230412T190000
DTEND;TZID=Europe/Paris:20230412T210000
DTSTAMP:20260420T220419
CREATED:20230315T104351Z
LAST-MODIFIED:20230315T173928Z
UID:10002551-1681326000-1681333200@lamaisonduzerodechet.org
SUMMARY:Conférence "Pourquoi n’avons-nous pas encore sauvé la forêt tropicale ?"
DESCRIPTION:Pourquoi n’avons-nous pas encore sauvé la forêt\ntropicale ?\nVenez assister à une conférence avec Martin Simonneau de Cool Earth sur le thème de la justice sociale et la protection de l’environnement !\n  \nAvec le réchauffement climatique\, les forêts tropicales du monde entier – pourtant essentielles au fonctionnement de notre écosystème – sont en péril… Afin de préserver la biodiversité que renferme ces forêts\, mais également la pérennité des communautés qui vivent au sein de ces forêts\, certaines ONG s’engagent dans ce combat et c’est notamment le cas de l’association Cool Earth. \n  \nAu programme \n\nUne conférence pendant laquelle Martin Simonneau discutera de la relation entre la justice sociale et la protection de l’environnement en vous présentant les missions de Cool Earth\, l’association pour laquelle il travaille ! Venez découvrir un modèle novateur de préservation des forêts tropicales\, fondé sur le respect des droits des peuples autochtones.\nUn temps de discussion est ensuite prévu entre Martin Simonneau\, Jörg Adamczewski de Zero Waste France\, et le public.\n\n  \nPrésentation de Martin Simonneau et de Cool Earth \nMartin Simonneau travaille pour Cool Earth\, une ONG britannique établie en 2007. \nAprès avoir passé de nombreuses années à sillonner les forêts tropicales d’Amérique du Sud\, il est aujourd’hui de retour en Europe. Martin est chargé de la stratégie de communication sur les programmes de l’organisation. Il a pour objectif d’expliquer que la forêt tropicale est un sanctuaire de biodiversité\, un puits de carbone essentiel à la lutte contre le réchauffement climatique mais surtout un endroit qui regorge d’une diversité sociale et culturelle inimaginable\, que l’on oublie souvent et qui contribue depuis des siècles à sa protection. \n“Sans justice sociale\, il n’y aura pas de protection de la forêt tropicale.” \nAdmirateur du monde autochtone\, Martin viendra nous parler des raisons qui ont motivé le choix de Cool Earth de centrer ses activités sur les habitants de la forêt tropicale\, de l’Amazonie à la Papouasie Nouvelle-Guinée en passant par l’imposant bassin du Congo. Dans un contexte d’urgence climatique et de crise sociale\, c’est un modèle qui privilégie autant la nature que l’espèce humaine. \n\n  \nAlors\, on se voit à la conférence ? Nous vous attendons nombreux.ses ! 😉 \n  \n  \nINFORMATIONS PRATIQUES\n\n\n👉 INSCRIPTIONS OBLIGATOIRES (veuillez cliquer juste ici)\nVotre inscription vous engage\, merci de nous prévenir 48h à l’avance en cas d’annulation. \nLes participant·es sont susceptibles d’être photographié·es ou filmé·es. Si vous ne souhaitez pas apparaître sur les photos/vidéos\, il vous suffit de nous prévenir en début d’événement. \nCet événement se déroulera à La Maison du Zéro Déchet – 1 passage Emma Calvé\, 75012 Paris. \nAccès métro : Reuilly-Diderot\, Faidherbe-Chaligny et Nation.
URL:https://lamaisonduzerodechet.org/evenements/conference-pourquoi-navons-nous-pas-encore-sauve-la-foret-tropicale/
LOCATION:La Maison du Zéro Déchet\, 1\, passage Emma Calvé\, Paris\, 75012\, France
CATEGORIES:Conférence
ATTACH;FMTTYPE=image/jpeg:https://lamaisonduzerodechet.org/wp-content/uploads/2023/03/Bannieres-event-site_NEW-6.jpg
END:VEVENT
END:VCALENDAR