BEGIN:VCALENDAR
VERSION:2.0
PRODID:-//La Maison du Zéro Déchet - ECPv6.15.14//NONSGML v1.0//EN
CALSCALE:GREGORIAN
METHOD:PUBLISH
X-WR-CALNAME:La Maison du Zéro Déchet
X-ORIGINAL-URL:https://lamaisonduzerodechet.org
X-WR-CALDESC:Évènements pour La Maison du Zéro Déchet
REFRESH-INTERVAL;VALUE=DURATION:PT1H
X-Robots-Tag:noindex
X-PUBLISHED-TTL:PT1H
BEGIN:VTIMEZONE
TZID:Europe/Paris
BEGIN:DAYLIGHT
TZOFFSETFROM:+0100
TZOFFSETTO:+0200
TZNAME:CEST
DTSTART:20230326T010000
END:DAYLIGHT
BEGIN:STANDARD
TZOFFSETFROM:+0200
TZOFFSETTO:+0100
TZNAME:CET
DTSTART:20231029T010000
END:STANDARD
BEGIN:DAYLIGHT
TZOFFSETFROM:+0100
TZOFFSETTO:+0200
TZNAME:CEST
DTSTART:20240331T010000
END:DAYLIGHT
BEGIN:STANDARD
TZOFFSETFROM:+0200
TZOFFSETTO:+0100
TZNAME:CET
DTSTART:20241027T010000
END:STANDARD
BEGIN:DAYLIGHT
TZOFFSETFROM:+0100
TZOFFSETTO:+0200
TZNAME:CEST
DTSTART:20250330T010000
END:DAYLIGHT
BEGIN:STANDARD
TZOFFSETFROM:+0200
TZOFFSETTO:+0100
TZNAME:CET
DTSTART:20251026T010000
END:STANDARD
END:VTIMEZONE
BEGIN:VEVENT
DTSTART;TZID=Europe/Paris:20240927T190000
DTEND;TZID=Europe/Paris:20240927T213000
DTSTAMP:20260421T011126
CREATED:20240723T153026Z
LAST-MODIFIED:20240724T085714Z
UID:10002857-1727463600-1727472600@lamaisonduzerodechet.org
SUMMARY:Au cœur des Infimes Océans: atelier artistique de sensibilisation à l'écologie marine
DESCRIPTION:La Maison du zéro déchet vous convie pour un voyage à la découverte de l’écologie marine avec la compagnie Eidola !\nLa compagnie Eidola proposera le vendredi 27 septembre à partir de 19h un atelier artistique de sensibilisation à l’écologie marine inspiré de sa dernière création : Infimes Océans. Il sera question de plonger à la découverte des phytoplanctons\, ces micro organismes à l’origine de la vie sur Terre qui produisent en grande partie l’oxygène que l’on respire. L’atelier débutera par une introduction au sujet effectuée par un.e expert.e océanographe puis sera suivi d’une partie artistique. Guidé par un ou une interprète de la compagnie il s’agira alors de se figurer le cycle des planctons ainsi que leurs particularités via une approche sensorielle impliquant le corps et les sens. L’atelier est ouvert à tout public\, et une tenue confortable est recommandée. \nLes deux intervenant.e.s\nFlorent Simon – directeur artistique de la compagnie Eidola  \nDiplômé en Sciences Sociales et Politiques de University College London ainsi que de diverses formations théâtrales entre Paris\, Londres et Madrid\, Florent commence son parcours artistique par du théâtre classique. Puis il cherche à développer un art théâtral plus transdisciplinaire et à entrer dans une démarche de création originale. En 2021 il fonde la compagnie Eidola\, qui s’inscrit dans une démarche d’entrelacement entre arts et sciences favorisant une approche du vivant par l’imaginaire et le sensoriel. Florent s’intéresse particulièrement à des formes immersives et non-conventionnelles proposant de nouveaux rapports au monde extérieur\, et permettant une meilleure compréhension de phénomènes liés aux sciences et au vivant. Il travaille avec des chercheus.e.s dans une démarche arts sciences et écrit\, conçoit et dirige des créations qui ont comme point de départ leurs thématiques de recherche. \nXiaoyue Xiao – Comédienne \nAprès avoir complété une licence de théâtre à l’Université de Strasbourg\, elle s’intéresse au théâtre corporel. Elle se dirige alors vers L’École Internationale de Théâtre Jacques Lecoq où elle étudie pendant deux ans et participe au Laboratoire d’Etude du Mouvement consacré à la recherche dynamique à travers la représentation plastique. Par la suite son parcours mêle expériences de courts métrages en tant que comédienne et cameraman\, formations en danse et clown.  En parallèle\, elle mène une recherche artistique autour du théâtre corporel et du clown. Elle est interprète et scénographe au sein du spectacle Infimes Océans de la Cie Eidola. Elle dirige régulièrement des ateliers avec la compagnie en français… ou en mandarin ! \nLa soirée s’annonce très enrichissante !! Nous vous attendons nombreux.ses pour ce moment de découverte et de partage ! 😉 \nTarif : 12€ \nINFORMATIONS PRATIQUES\n\n\n👉 INSCRIPTIONS OBLIGATOIRES (veuillez cliquer juste ici)\nVotre inscription vous engage\, merci de nous prévenir 48h à l’avance en cas d’annulation. \nLes participant·es sont susceptibles d’être photographié·es ou filmé·es. Si vous ne souhaitez pas apparaître sur les photos/vidéos\, il vous suffit de nous prévenir en début d’événement. \nCet événement se déroulera à La Maison du Zéro Déchet – 1 passage Emma Calvé\, 75012 Paris. \nAccès métro : Reuilly-Diderot\, Faidherbe-Chaligny et Nation.
URL:https://lamaisonduzerodechet.org/evenements/infimes-oceans-atelier-de-sensibilisation-a-lecologie-marine-et-de-pratique-artistique/
LOCATION:La Maison du Zéro Déchet\, 1\, passage Emma Calvé\, Paris\, 75012\, France
CATEGORIES:Rencontre
ATTACH;FMTTYPE=image/jpeg:https://lamaisonduzerodechet.org/wp-content/uploads/2024/07/27-sept.jpg
END:VEVENT
END:VCALENDAR