BEGIN:VCALENDAR
VERSION:2.0
PRODID:-//La Maison du Zéro Déchet - ECPv6.15.14//NONSGML v1.0//EN
CALSCALE:GREGORIAN
METHOD:PUBLISH
X-WR-CALNAME:La Maison du Zéro Déchet
X-ORIGINAL-URL:https://lamaisonduzerodechet.org
X-WR-CALDESC:Évènements pour La Maison du Zéro Déchet
REFRESH-INTERVAL;VALUE=DURATION:PT1H
X-Robots-Tag:noindex
X-PUBLISHED-TTL:PT1H
BEGIN:VTIMEZONE
TZID:Europe/Paris
BEGIN:DAYLIGHT
TZOFFSETFROM:+0100
TZOFFSETTO:+0200
TZNAME:CEST
DTSTART:20190331T010000
END:DAYLIGHT
BEGIN:STANDARD
TZOFFSETFROM:+0200
TZOFFSETTO:+0100
TZNAME:CET
DTSTART:20191027T010000
END:STANDARD
BEGIN:DAYLIGHT
TZOFFSETFROM:+0100
TZOFFSETTO:+0200
TZNAME:CEST
DTSTART:20200329T010000
END:DAYLIGHT
BEGIN:STANDARD
TZOFFSETFROM:+0200
TZOFFSETTO:+0100
TZNAME:CET
DTSTART:20201025T010000
END:STANDARD
BEGIN:DAYLIGHT
TZOFFSETFROM:+0100
TZOFFSETTO:+0200
TZNAME:CEST
DTSTART:20210328T010000
END:DAYLIGHT
BEGIN:STANDARD
TZOFFSETFROM:+0200
TZOFFSETTO:+0100
TZNAME:CET
DTSTART:20211031T010000
END:STANDARD
BEGIN:DAYLIGHT
TZOFFSETFROM:+0100
TZOFFSETTO:+0200
TZNAME:CEST
DTSTART:20220327T010000
END:DAYLIGHT
BEGIN:STANDARD
TZOFFSETFROM:+0200
TZOFFSETTO:+0100
TZNAME:CET
DTSTART:20221030T010000
END:STANDARD
END:VTIMEZONE
BEGIN:VEVENT
DTSTART;TZID=Europe/Paris:20210515T110000
DTEND;TZID=Europe/Paris:20210515T123000
DTSTAMP:20260421T034708
CREATED:20210428T154856Z
LAST-MODIFIED:20210428T154856Z
UID:10002295-1621076400-1621081800@lamaisonduzerodechet.org
SUMMARY:[EN LIGNE] Initiation : discussion autour des règles zéro déchet
DESCRIPTION:Le principe\nLes règles zéro déchet\, possible ?\nAvoir ses menstruations dans notre société\, c’est subir toute une série d’achats obligatoires de serviettes et de tampons. Ces derniers nous sont présentés dès le plus jeune âge comme des produits d’hygiène incontournables. Contre toute attente\, nous prenons de plus en plus conscience du poids de ces produits sur notre budget\, notre santé\, notre production de déchet. \nBien heureusement\, de nombreuses solutions confortables et écologiques sont maintenant disponibles. \n \nLe programme\nDécouvrez les alternatives Zéro Déchet pour la gestion des règles ! \nNous vous présenterons nos solutions menstrues zéro déchet préférées : \n\nla cup\nles serviettes hygiéniques lavables\nla culotte de règles\n\nDans cet atelier d’1h30\, nous ferons un bref point sur les règles\, leur origine biologique\, leur histoire et leur impact sur notre quotidien. Puis nous testerons l’absorption\, la contenance\, le nettoyage des alternatives aux produits conventionnels. Nous parlerons également confort\, coût\, durabilité\, fuites… Enfin\, nous partagerons nos conseils pour s’équiper et pour organiser l’utilisation des protections périodiques lavables. \nCela vous permettra de tout connaître (ou presque) sur les protections menstruelles zéro déchet ! \nVous pouvez également lire notre article sur le sujet : ici ! \nInformations pratiques\nInscriptions obligatoires ici \nLe lien de connexion vous sera envoyé dans le mail de confirmation d’inscription et le jour de l’évènement. \nCet événement est en ligne\, en visioconférence. Votre inscription vous engage : les participations sont limitées ainsi\, si vous réservez une place et ne vous connectez pas\, vous empêchez une personne motivée de participer à l’événement. \nLa Maison du Zéro Déchet a pu réouvrir sa boutique mais la programmation continue en ligne en raison des mesures sanitaires. Cette année\, notre association a été fortement impactée par la crise sanitaire et fait aujourd’hui appel à votre soutien via votre inscription\, d’un minimum de 2 € ou d’un montant de votre choix\, pour continuer à informer et outiller les citoyen.nes aux démarches zéro déchet\, zéro gaspillage.
URL:https://lamaisonduzerodechet.org/evenements/en-ligne-initiation-discussion-autour-des-regles-zero-dechet-2/
LOCATION:En ligne
CATEGORIES:Initiation
ATTACH;FMTTYPE=image/png:https://lamaisonduzerodechet.org/wp-content/uploads/2019/04/sensibilisation-aux-règles-zéro-déchet.png
END:VEVENT
BEGIN:VEVENT
DTSTART;TZID=Europe/Paris:20210424T110000
DTEND;TZID=Europe/Paris:20210424T123000
DTSTAMP:20260421T034708
CREATED:20210325T154521Z
LAST-MODIFIED:20210325T154521Z
UID:10002288-1619262000-1619267400@lamaisonduzerodechet.org
SUMMARY:[EN LIGNE] Initiation : discussion autour des règles zéro déchet
DESCRIPTION:Le principe\nLes règles zéro déchet\, possible ?\nAvoir ses menstruations dans notre société\, c’est subir toute une série d’achats obligatoires de serviettes et de tampons. Ces derniers nous sont présentés dès le plus jeune âge comme des produits d’hygiène incontournables. Contre toute attente\, nous prenons de plus en plus conscience du poids de ces produits sur notre budget\, notre santé\, notre production de déchet. \nBien heureusement\, de nombreuses solutions confortables et écologiques sont maintenant disponibles. \n \nLe programme\nDécouvrez les alternatives Zéro Déchet pour la gestion des règles ! \nNous vous présenterons nos solutions menstrues zéro déchet préférées : \n\nla cup\nles serviettes hygiéniques lavables\nla culotte de règles\n\nDans cet atelier d’1h30\, nous ferons un bref point sur les règles\, leur origine biologique\, leur histoire et leur impact sur notre quotidien. Puis nous testerons l’absorption\, la contenance\, le nettoyage des alternatives aux produits conventionnels. Nous parlerons également confort\, coût\, durabilité\, fuites… Enfin\, nous partagerons nos conseils pour s’équiper et pour organiser l’utilisation des protections périodiques lavables. \nCela vous permettra de tout connaître (ou presque) sur les protections menstruelles zéro déchet ! \nVous pouvez également lire notre article sur le sujet : ici ! \nInscription\nInscription obligatoire ICI  \nLe lien de connexion vous sera envoyé le jour de l’évènement. \nCet événement est en ligne\, en visioconférence. Votre inscription vous engage : les participations sont limitées ainsi\, si vous réservez une place et ne vous connectez pas\, vous empêchez une personne motivée de participer à l’événement. \nLa Maison du Zéro Déchet a pu réouvrir sa boutique mais la programmation continue en ligne en raison des mesures sanitaires. Cette année\, notre association a été fortement impactée par la crise sanitaire et fait aujourd’hui appel à votre soutien via votre inscription\, d’un montant de votre choix\, pour continuer à informer et outiller les citoyen.nes aux démarches zéro déchet\, zéro gaspillage
URL:https://lamaisonduzerodechet.org/evenements/en-ligne-initiation-discussion-autour-des-regles-zero-dechet/
LOCATION:En ligne
ATTACH;FMTTYPE=image/png:https://lamaisonduzerodechet.org/wp-content/uploads/2019/04/sensibilisation-aux-règles-zéro-déchet.png
END:VEVENT
BEGIN:VEVENT
DTSTART;TZID=Europe/Paris:20210410T110000
DTEND;TZID=Europe/Paris:20210410T123000
DTSTAMP:20260421T034708
CREATED:20210325T133604Z
LAST-MODIFIED:20210329T150253Z
UID:10002286-1618052400-1618057800@lamaisonduzerodechet.org
SUMMARY:[EN LIGNE] Zéro déchet et petit budget
DESCRIPTION:Le zéro déchet\, une “lubie bobo” ou une mode de consommation plus sobre et respectueux de l’environnement ?\nVous êtes intéressé.e.s par la démarche zéro déchet mais les prix de certains investissements vous semblent prohibitifs ? Vous vous sentez perdu.e.s face à l’offre prolifique de produits étiquetés zéro déchet disponible en ligne ? Nos bénévoles vous proposent cette initiation pour vous partager leur expérience en la matière ! \n  \nAu programme\nNos bénévoles expérimentés vous présenteront toutes leurs astuces pour réduire leur déchets sans se faire arnaquer ou céder à la tentation d’acquérir des objets qui se révèlent en réalité superflus. Astuces de récup’ qui vous coûteront 0 € ou presque\, habitudes qui permettent de vivre de façon plus saine et plus responsable en réalisant des économies\, conseils pour consommer d’occasion : vous ressortirez solidement armé.e.s pour réduire vos déchets et réduire vos dépenses. Vous pourrez également poser vos questions à nos chères bénévoles ! \n  \nInformations pratiques\nInscriptions obligatoires ici \nLe lien de connexion vous sera envoyé dans le mail confirmation et le jour de l’évènement. \nCet événement est en ligne\, en visioconférence. Votre inscription vous engage : les participations sont limitées ainsi\, si vous réservez une place et ne vous connectez pas\, vous empêchez une personne motivée de participer à l’événement. \nLa Maison du Zéro Déchet a pu réouvrir sa boutique mais la programmation continue en ligne en raison des mesures sanitaires. Cette année\, notre association a été fortement impactée par la crise sanitaire et fait aujourd’hui appel à votre soutien via votre inscription\, d’un montant de votre choix\, pour continuer à informer et outiller les citoyen.nes aux démarches zéro déchet\, zéro gaspillage.
URL:https://lamaisonduzerodechet.org/evenements/en-ligne-zero-dechet-et-petit-budget-3/
LOCATION:En ligne
CATEGORIES:Initiation
ATTACH;FMTTYPE=image/jpeg:https://lamaisonduzerodechet.org/wp-content/uploads/2021/01/plante-qui-pousse-pot-argent_34152-67.jpg
END:VEVENT
BEGIN:VEVENT
DTSTART;TZID=Europe/Paris:20210306T110000
DTEND;TZID=Europe/Paris:20210306T123000
DTSTAMP:20260421T034708
CREATED:20210222T125159Z
LAST-MODIFIED:20210222T125159Z
UID:10001994-1615028400-1615033800@lamaisonduzerodechet.org
SUMMARY:[EN LIGNE] Zéro déchet et petit budget
DESCRIPTION:Le zéro déchet\, une “lubie bobo” ou une mode de consommation plus sobre\, respectueux de l’environnement (et des porte-monnaie) ?\nVous êtes intéressé-e-s par la démarche zéro déchet mais les prix de certains investissements vous semblent prohibitifs ? Vous vous sentez perdu-e-s face à l’offre prolifique de produits étiquetés zéro déchet disponible en ligne ? Nos bénévoles vous proposent cette initiation pour vous partager leur expérience en la matière ! \nAu programme\nLucie et Charline vous présenteront toutes leurs astuces pour réduire leur déchets sans se faire arnaquer ou céder à la tentation d’acquérir des objets qui se révèlent en réalité superflus. Astuces de récup’ qui vous coûteront 0 € ou presque\, habitudes qui permettent de vivre de façon plus saine et plus responsable en réalisant des économies\, conseils pour consommer d’occasion : vous ressortirez solidement armé-e-s pour réduire vos déchets et réduire vos dépenses. Vous pourrez également poser vos questions à nos chères bénévoles ! \nInformations pratiques\nInscriptions obligatoires ici \nLe lien de connexion vous sera envoyé dans le mail confirmation et le jour de l’évènement. \nCet événement est en ligne\, en visioconférence. Votre inscription vous engage : les participations sont limitées ainsi\, si vous réservez une place et ne vous connectez pas\, vous empêchez une personne motivée de participer à l’événement. \nLa Maison du Zéro Déchet a pu réouvrir sa boutique mais la programmation continue en ligne en raison des mesures sanitaires. Cette année\, notre association a été fortement impactée par la crise sanitaire et fait aujourd’hui appel à votre soutien via votre inscription\, d’un montant de votre choix\, pour continuer à informer et outiller les citoyen.nes aux démarches zéro déchet\, zéro gaspillage.
URL:https://lamaisonduzerodechet.org/evenements/en-ligne-zero-dechet-et-petit-budget-2/
LOCATION:En ligne
CATEGORIES:Conférence en ligne,Initiation
ATTACH;FMTTYPE=image/jpeg:https://lamaisonduzerodechet.org/wp-content/uploads/2021/01/plante-qui-pousse-pot-argent_34152-67.jpg
END:VEVENT
BEGIN:VEVENT
DTSTART;TZID=Europe/Paris:20210213T110000
DTEND;TZID=Europe/Paris:20210213T123000
DTSTAMP:20260421T034708
CREATED:20210129T091705Z
LAST-MODIFIED:20210210T102203Z
UID:10002262-1613214000-1613219400@lamaisonduzerodechet.org
SUMMARY:[EN LIGNE] Zéro déchet et petit budget
DESCRIPTION:Le zéro déchet\, une “lubie bobo” ou une mode de consommation plus sobre\, respectueux de l’environnement (et des porte-monnaies) ?\nVous êtes intéressé-e-s par la démarche zéro déchet mais les prix de certains investissements vous semblent prohibitifs ? Vous vous sentez perdu-e-s face à l’offre prolifique de produits étiquetés zéro déchet disponible en ligne ? Nos bénévoles vous proposent cette initiation pour vous partager leur expérience en la matière ! \n  \nAu programme\nLucie et Charline vous présenteront toutes leurs astuces pour réduire leur déchets sans se faire arnaquer ou céder à la tentation d’acquérir des objets qui se révèlent en réalité superflus. Astuces de récup’ qui vous coûteront 0 € ou presque\, habitudes qui permettent de vivre de façon plus saine et plus responsable en réalisant des économies\, conseils pour consommer d’occasion : vous ressortirez solidement armé-e-s pour réduire vos déchets et réduire vos dépenses. Vous pourrez également poser vos questions à nos chères bénévoles ! \n  \nInformations pratiques\nInscriptions obligatoires ici \nLe lien de connexion vous sera envoyé dans le mail confirmation et le jour de l’évènement. \nCet événement est en ligne\, en visioconférence. Votre inscription vous engage : les participations sont limitées ainsi\, si vous réservez une place et ne vous connectez pas\, vous empêchez une personne motivée de participer à l’événement. \nLa Maison du Zéro Déchet a pu réouvrir sa boutique mais la programmation continue en ligne en raison des mesures sanitaires. Cette année\, notre association a été fortement impactée par la crise sanitaire et fait aujourd’hui appel à votre soutien via votre inscription\, d’un montant de votre choix\, pour continuer à informer et outiller les citoyen.nes aux démarches zéro déchet\, zéro gaspillage.
URL:https://lamaisonduzerodechet.org/evenements/en-ligne-zero-dechet-et-petit-budget/
LOCATION:En ligne
CATEGORIES:Initiation
ATTACH;FMTTYPE=image/jpeg:https://lamaisonduzerodechet.org/wp-content/uploads/2021/01/plante-qui-pousse-pot-argent_34152-67.jpg
END:VEVENT
BEGIN:VEVENT
DTSTART;TZID=Europe/Paris:20210109T110000
DTEND;TZID=Europe/Paris:20210109T123000
DTSTAMP:20260421T034708
CREATED:20201221T112850Z
LAST-MODIFIED:20201221T112850Z
UID:10002235-1610190000-1610195400@lamaisonduzerodechet.org
SUMMARY:[EN LIGNE] Règles zéro déchet : Atelier de démonstration
DESCRIPTION:Le principe\nLes règles zéro déchet\, possible ?\nAvoir ses menstruations dans notre société\, c’est subir toute une série d’achats obligatoires de serviettes et de tampons. Ces derniers nous sont présentés dès le plus jeune âge comme des produits d’hygiène incontournables. Contre toute attente\, nous prenons de plus en plus conscience du poids de ces produits sur notre budget\, notre santé\, notre production de déchet. \nBien heureusement\, de nombreuses solutions confortables et écologiques sont maintenant disponibles. \n \nLe programme\nDécouvrez les alternatives Zéro Déchet pour la gestion des règles ! \nNous vous présenterons nos solutions menstrues zéro déchet préférées : \n\nla cup\nles serviettes hygiéniques lavables\nla culotte de règles\n\nDans cet atelier d’1h30\, nous ferons un bref point sur les règles\, leur origine biologique\, leur histoire et leur impact sur notre quotidien. Puis nous testerons l’absorption\, la contenance\, le nettoyage des alternatives aux produits conventionnels. Nous parlerons également confort\, coût\, durabilité\, fuites… Enfin\, nous partagerons nos conseils pour s’équiper et pour organiser l’utilisation des protections périodiques lavables. \nCela vous permettra de tout connaître (ou presque) sur les protections menstruelles zéro déchet ! \nVous pouvez également lire notre article sur le sujet : ici ! \nInscription\nInscription obligatoire ICI  \nLe lien de connexion vous sera envoyé le jour de l’évènement. \nCet événement est en ligne\, en visioconférence. Votre inscription vous engage : les participations sont limitées ainsi\, si vous réservez une place et ne vous connectez pas\, vous empêchez une personne motivée de participer à l’événement. \nLa Maison du Zéro Déchet a pu réouvrir sa boutique mais la programmation continue en ligne en raison des mesures sanitaires. Cette année\, notre association a été fortement impactée par la crise sanitaire et fait aujourd’hui appel à votre soutien via votre inscription\, d’un montant de votre choix\, pour continuer à informer et outiller les citoyen.nes aux démarches zéro déchet\, zéro gaspillage
URL:https://lamaisonduzerodechet.org/evenements/en-ligne-regles-zero-dechet-atelier-de-demonstration/
LOCATION:En ligne
CATEGORIES:Conférence en ligne,Initiation
ATTACH;FMTTYPE=image/png:https://lamaisonduzerodechet.org/wp-content/uploads/2019/04/sensibilisation-aux-règles-zéro-déchet.png
END:VEVENT
BEGIN:VEVENT
DTSTART;TZID=Europe/Paris:20201205T110000
DTEND;TZID=Europe/Paris:20201205T123000
DTSTAMP:20260421T034708
CREATED:20201117T133718Z
LAST-MODIFIED:20201202T140252Z
UID:10002207-1607166000-1607171400@lamaisonduzerodechet.org
SUMMARY:[EN LIGNE] Initiation de Noël : Faire un sapin de Noël zéro déchet
DESCRIPTION:Le principe\nVoilà Noël qui approche à grands pas… mais aussi tout le gaspillage qu’il suppose ! La Maison du Zéro Déchet vous propose donc une programmation spéciale pour vous aider à célébrer les fêtes de fin d’année de façon plus durable. Ainsi\, vous pouvez participer aux ateliers suivants : réalisation de calendrier de l’avent zéro déchet\, confection d’emballages cadeaux réutilisables\, de décorations de Noël zéro déchet\, etc. \n\nAu programme\nAu cours de cet événement\, les bénévoles de la Maison du Zéro Déchet vous présenterons les différentes alternatives qui existent pour éviter d’acheter un sapin conventionnel. Aussi\, vous pourrez discutez avec eux et poser vos questions concernant : \n\nLes différents sapins en armatures de bois\nLes sapins muraux\nLes sapins en tout autres objets insolites\n\nCet évènement vous permettra de vous donner de l’inspiration et de la créativité pour l’achat ou la construction de votre futur sapin zéro déchet. \n\nInformations pratiques\nInscriptions obligatoires ICI sur HelloAsso \nLa Maison du Zéro Déchet a pu réouvrir sa boutique mais la programmation continue en ligne en raison des mesures sanitaires. Cette année\, notre association a été fortement impactée par la crise sanitaire et fait aujourd’hui appel à votre soutien via votre inscription\, d’un montant de votre choix\, pour continuer à informer et outiller les citoyen.nes aux démarches zéro déchet\, zéro gaspillage.  \nLe lien et les codes de connexion vous sera envoyé dans le mail confirmation ainsi que la veille ou le jour de l’évènement. \nCet événement est en ligne\, en visioconférence. Votre inscription vous engage : les participations sont limitées ainsi\, si vous réservez une place et ne vous connectez pas\, vous empêchez une personne motivée de participer à l’événement.
URL:https://lamaisonduzerodechet.org/evenements/en-ligne-initiation-de-noel-faire-un-sapin-de-noel-zero-dechet/
LOCATION:En ligne
CATEGORIES:Initiation
ATTACH;FMTTYPE=image/jpeg:https://lamaisonduzerodechet.org/wp-content/uploads/2020/11/Faire-son-sapin-de-Noel-1.jpeg
END:VEVENT
BEGIN:VEVENT
DTSTART;TZID=Europe/Paris:20201121T110000
DTEND;TZID=Europe/Paris:20201121T123000
DTSTAMP:20260421T034708
CREATED:20201026T120050Z
LAST-MODIFIED:20201120T114229Z
UID:10001948-1605956400-1605961800@lamaisonduzerodechet.org
SUMMARY:[EN LIGNE] Initiation : Sensibilisation aux menstruations zéro déchet
DESCRIPTION:Le principe\nLes règles zéro déchet\, possible ?\nAvoir ses menstruations dans notre société\, c’est subir toute une série d’achats obligatoires de serviettes et de tampons. Ces derniers nous sont présentés dès le plus jeune âge comme des produits d’hygiène incontournables. Contre toute attente\, nous prenons de plus en plus conscience du poids de ces produits sur notre budget\, notre santé\, notre production de déchet. \nBien heureusement\, de nombreuses solutions confortables et écologiques sont maintenant disponibles. \n \nLe programme\nVenez découvrir les alternatives Zéro Déchet pour la gestion des règles ! \nNous vous présenterons nos solutions menstrues zéro déchet préférées : \n\nla cup\nles serviettes hygiéniques lavables\nla culotte de règles\n\nDans cet atelier\, nous ferons un bref point sur les règles\, leur origine biologique\, leur histoire et leur impact sur notre quotidien. Puis nous testerons l’absorption\, la contenance\, le nettoyage des alternatives aux produits conventionnels. Nous parlerons également confort\, coût\, durabilité\, fuites… Enfin\, nous partagerons nos conseils pour s’équiper et pour organiser l’utilisation des protections périodiques lavables. \nCela vous permettra de tout connaître (ou presque) sur les protections menstruelles zéro déchet ! \nVous pouvez également lire notre article sur le sujet : ici ! \nInscription\nInscription obligatoire ICI  \nLe lien de connexion vous sera envoyé dans le mail confirmation. \nCet événement est en ligne\, en visioconférence. Votre inscription vous engage : les participations sont limitées ainsi\, si vous réservez une place et ne vous connectez pas\, vous empêchez une personne motivée de participer à l’événement. \nEn temps normal\, la programmation est majoritairement financée par les activités de la boutique et de prestations. Hors\, le deuxième confinement oblige La Maison du Zéro Déchet à devoir fermer à nouveau ses portes. Pour continuer à agir\, informer et outiller les citoyen.nes\, l’association fait aujourd’hui appel à votre soutien via votre inscription\, d’un montant de votre choix\, toute contribution sera appréciée.
URL:https://lamaisonduzerodechet.org/evenements/initiation-sensibilisation-aux-menstruations-zero-dechet/
LOCATION:En ligne
CATEGORIES:Conférence en ligne,Initiation
ATTACH;FMTTYPE=image/jpeg:https://lamaisonduzerodechet.org/wp-content/uploads/2018/11/46187637_453622135168875_7024312819541606400_n.jpg
END:VEVENT
BEGIN:VEVENT
DTSTART;TZID=Europe/Paris:20201114T143000
DTEND;TZID=Europe/Paris:20201114T160000
DTSTAMP:20260421T034708
CREATED:20201105T144152Z
LAST-MODIFIED:20201110T090604Z
UID:10002189-1605364200-1605369600@lamaisonduzerodechet.org
SUMMARY:[EN LIGNE] Atelier de Noël : Faire ses emballages cadeaux
DESCRIPTION:Le principe\nVoilà Noël qui approche à grands pas… mais aussi tout le gaspillage qu’il suppose ! La Maison du Zéro Déchet vous propose une programmation spéciale pour vous aider à célébrer les fêtes de fin d’année de façon plus durable avec les ateliers suivants : réalisation de calendrier de l’avent zéro déchet\, initiation à la confection de sapins et décorations de Noël à partir de récup’\, confection d’emballages cadeaux réutilisables\, etc. \nAu programme\nAu cours de cet atelier\, vous apprendrez notamment : \n\nA manier l’art du furoshiki : ce carré de tissu d’origine japonaise permet de couvrir des cadeaux de toutes formes à partir de pliages délicats très divers\nA réaliser de jolies boîtes cadeaux uniques à partir de matières récup’\n\nEn plus de personnaliser vos cadeaux et de sensibiliser votre entourage au zéro déchet\, vos emballages pourront être réutilisés pour un prochain cadeau. \nMatériel nécessaire\nPour les furoshikis :\n\n\nDes morceaux de tissus idéalement de forme carrée d’au minimum 40 cm de longueur et de largeur et à défaut de toutes tailles\nDes rubans\nDes objets de diverses formes pour vous entraîner aux pliages (livres\, 2 bouteilles ou tout autre cadeau plus biscornu)\nUn mètre et des ciseaux pour découper vos tissus s’il faut adapter leurs dimensions\n\nPour les boîtes cadeaux : \n\nDes boîtes issues de la récup’ (boîtes à chaussures\, boîtes à bijoux\, etc)\nDu papier journal ou de vieux livres\n\n\n\nDe la colle\n\n\n  \nInscription\nInscription obligatoire ICI  \nLe lien de connexion vous sera envoyé dans le mail confirmation. \nCet événement est en ligne\, en visioconférence. Votre inscription vous engage : les participations sont limitées ainsi\, si vous réservez une place et ne vous connectez pas\, vous empêchez une personne motivée de participer à l’événement. \nEn temps normal\, la programmation est majoritairement financée par les activités de la boutique et de prestations. Hors\, le deuxième confinement oblige La Maison du Zéro Déchet à devoir fermer à nouveau ses portes. Pour continuer à agir\, informer et outiller les citoyen.nes\, l’association fait aujourd’hui appel à votre soutien via votre inscription\, d’un montant de votre choix\, toute contribution sera appréciée.
URL:https://lamaisonduzerodechet.org/evenements/en-ligne-atelier-faire-ses-emballages-cadeaux/
LOCATION:En ligne
CATEGORIES:Atelier en ligne
ATTACH;FMTTYPE=image/jpeg:https://lamaisonduzerodechet.org/wp-content/uploads/2020/11/istockphoto-1190777495-170667a-1.jpg
END:VEVENT
BEGIN:VEVENT
DTSTART;TZID=Europe/Paris:20201010T110000
DTEND;TZID=Europe/Paris:20201010T123000
DTSTAMP:20260421T034708
CREATED:20201005T110004Z
LAST-MODIFIED:20201009T081736Z
UID:10002175-1602327600-1602333000@lamaisonduzerodechet.org
SUMMARY:Atelier ludique : autopsie de poubelle
DESCRIPTION:Atelier ludique : autopsie de poubelle\nLe principe\nTu en as marre de voir ta poubelle se remplir à vue d’oeil ? Tu te demandes comment réduire tes déchets ? Cet atelier est fait pour toi ! \n458 kg\, c’est ce que représentent les déchets ménagers moyens d’un·e Français·e chaque année. Bien que nous soyons de plus en plus sensibilisés au mode de vie zéro déchet\, les poubelles pèsent toujours très lourd et certains mécanismes restent flous. Que faire des chutes de tissu ? Comment remplacer le papier aluminium ? Autant de questions auxquelles nous essayerons de trouver des réponses lors de cet atelier ! \nL’autopsie de poubelle\, une activité ludique pour en savoir plus sur sa poubelle ! \nTu pourras comprendre un peu peu mieux ta poubelle et découvrir des alternatives aux produits jetables. Cette méthode très visuelle te permettra de voir facilement ce qui peut être supprimé de ta poubelle. Des petites choses qui peuvent peser très lourd à la fin de l’année ! \nInformations complémentaires\nCet événement est gratuit. Cependant\, nous avons une petite salle de conférence donc ton inscription est un engagement. Ainsi\, si tu réserves une place et ne viens pas\, tu empêches une personne motivée de participer à l’événement. En cas d’empêchement\, merci de prévenir au plus tard 48h pour que nous puissions prévenir une personne sur liste d’attente. \nLes participant·es sont susceptibles d’être photographié·es ou filmé·es. Si tu ne souhaites pas apparaître sur les photos/vidéos\, il suffit de nous prévenir en début d’atelier. \nLa mention « Out of stock » ou « Plus en stock » signifie que l’événement est complet. \nTous nos ateliers sont animés par des bénévoles\, la participation demandée permet de couvrir les frais liés aux achats de matériels nécessaires.
URL:https://lamaisonduzerodechet.org/evenements/atelier-ludique-autopsie-de-poubelle-5/
CATEGORIES:Atelier pratique
ATTACH;FMTTYPE=image/jpeg:https://lamaisonduzerodechet.org/wp-content/uploads/2019/02/poubelle.jpg
END:VEVENT
END:VCALENDAR