BEGIN:VCALENDAR
VERSION:2.0
PRODID:-//La Maison du Zéro Déchet - ECPv6.15.14//NONSGML v1.0//EN
CALSCALE:GREGORIAN
METHOD:PUBLISH
X-WR-CALNAME:La Maison du Zéro Déchet
X-ORIGINAL-URL:https://lamaisonduzerodechet.org
X-WR-CALDESC:Évènements pour La Maison du Zéro Déchet
REFRESH-INTERVAL;VALUE=DURATION:PT1H
X-Robots-Tag:noindex
X-PUBLISHED-TTL:PT1H
BEGIN:VTIMEZONE
TZID:Europe/Paris
BEGIN:DAYLIGHT
TZOFFSETFROM:+0100
TZOFFSETTO:+0200
TZNAME:CEST
DTSTART:20200329T010000
END:DAYLIGHT
BEGIN:STANDARD
TZOFFSETFROM:+0200
TZOFFSETTO:+0100
TZNAME:CET
DTSTART:20201025T010000
END:STANDARD
BEGIN:DAYLIGHT
TZOFFSETFROM:+0100
TZOFFSETTO:+0200
TZNAME:CEST
DTSTART:20210328T010000
END:DAYLIGHT
BEGIN:STANDARD
TZOFFSETFROM:+0200
TZOFFSETTO:+0100
TZNAME:CET
DTSTART:20211031T010000
END:STANDARD
BEGIN:DAYLIGHT
TZOFFSETFROM:+0100
TZOFFSETTO:+0200
TZNAME:CEST
DTSTART:20220327T010000
END:DAYLIGHT
BEGIN:STANDARD
TZOFFSETFROM:+0200
TZOFFSETTO:+0100
TZNAME:CET
DTSTART:20221030T010000
END:STANDARD
END:VTIMEZONE
BEGIN:VEVENT
DTSTART;TZID=Europe/Paris:20210310T080000
DTEND;TZID=Europe/Paris:20210316T170000
DTSTAMP:20260421T024356
CREATED:20210310T163335Z
LAST-MODIFIED:20210310T163426Z
UID:10002277-1615363200-1615914000@lamaisonduzerodechet.org
SUMMARY:Festival de cinéma Arcadia 2021
DESCRIPTION:  \nL’histoire d’Arcadia\n\n\n\n\nEn 2013\, Florent et Nicolas\, deux globetrotters en quête de solutions durables\, entreprennent un tour du monde pour rencontrer des acteurs de la protection de la biodiversité et du développement durable. \nArrivés en Australie\, ils croisent Aymeric\, un français expatrié à Sydney\, passionné d’environnement et organisateur du festival EcoXpo\, le salon des modes de vie durables à Sydney. \nEnsemble\, Florent\, Nicolas et Aymeric décident de monter un festival de films environnementaux\, qu’ils nommeront Arcadia\, en référence à la patrie du Dieu Pan dans la mythologie grecque. \n\n\n\n\n\n\n\n\nLa première édition du festival Arcadia est lancée en 2013 à Paris\, Sydney et Singapour simultanément et rencontre un franc succès. \nDepuis\, chaque année\, le festival anime une communauté grandissante rassemblée autour d’un objectif commun : faire basculer la société vers un futur plus sain et plus juste\, en relevant les défis socio-environnementaux d’aujourd’hui. \n\nL’objectif : inciter les individus à agir à leur échelle pour un monde plus juste et plus sain. \n\n\n\nTous ensemble\, devenons des semeurs de graines de changement ! \n\n\n\n\nLa sélection 2021\nAvant-premières nationales\, exclusivités françaises\, films primés… Découvrez les 10 films de la sélection 2021 ! \nTous les films sont suivis de débats concoctés en partenariat avec les ONG et distributeurs partenaires du Festival. Découvrez le programme ! \nInscriptions\nInscriptions obligatoires ICI sur le site d’Arcadia Film Festival \n6 € l’entrée
URL:https://lamaisonduzerodechet.org/evenements/festival-de-cinema-arcadia-2021/
LOCATION:En ligne
ATTACH;FMTTYPE=image/png:https://lamaisonduzerodechet.org/wp-content/uploads/2021/03/Logo-Blanc-Arcadia-PNG_Plan-de-travail-1-copie.png
END:VEVENT
END:VCALENDAR