BEGIN:VCALENDAR
VERSION:2.0
PRODID:-//La Maison du Zéro Déchet - ECPv6.15.14//NONSGML v1.0//EN
CALSCALE:GREGORIAN
METHOD:PUBLISH
X-ORIGINAL-URL:https://lamaisonduzerodechet.org
X-WR-CALDESC:Évènements pour La Maison du Zéro Déchet
REFRESH-INTERVAL;VALUE=DURATION:PT1H
X-Robots-Tag:noindex
X-PUBLISHED-TTL:PT1H
BEGIN:VTIMEZONE
TZID:Europe/Paris
BEGIN:DAYLIGHT
TZOFFSETFROM:+0100
TZOFFSETTO:+0200
TZNAME:CEST
DTSTART:20230326T010000
END:DAYLIGHT
BEGIN:STANDARD
TZOFFSETFROM:+0200
TZOFFSETTO:+0100
TZNAME:CET
DTSTART:20231029T010000
END:STANDARD
BEGIN:DAYLIGHT
TZOFFSETFROM:+0100
TZOFFSETTO:+0200
TZNAME:CEST
DTSTART:20240331T010000
END:DAYLIGHT
BEGIN:STANDARD
TZOFFSETFROM:+0200
TZOFFSETTO:+0100
TZNAME:CET
DTSTART:20241027T010000
END:STANDARD
BEGIN:DAYLIGHT
TZOFFSETFROM:+0100
TZOFFSETTO:+0200
TZNAME:CEST
DTSTART:20250330T010000
END:DAYLIGHT
BEGIN:STANDARD
TZOFFSETFROM:+0200
TZOFFSETTO:+0100
TZNAME:CET
DTSTART:20251026T010000
END:STANDARD
END:VTIMEZONE
BEGIN:VEVENT
DTSTART;TZID=Europe/Paris:20240917T190000
DTEND;TZID=Europe/Paris:20240917T210000
DTSTAMP:20260421T004851
CREATED:20240716T084345Z
LAST-MODIFIED:20240716T084345Z
UID:10002848-1726599600-1726606800@lamaisonduzerodechet.org
SUMMARY:Voyage en 2030 glorieuses
DESCRIPTION:Retrouvons-nous pour explorer les mondes de demain !\nLe temps d’un atelier\, on vous propose de voyager en 2030 Glorieuses grâce à une conversation utopique qui donnera la possibilité aux participant.e.s de dessiner ensemble les contours d’une société plus durable et solidaire d’ici 10 ans. En petits groupes de 5 à 8 personnes\, vous imaginerez à quoi vos vies ressembleront\, depuis l’échelle individuelle jusqu’au niveau sociétal ! \nPlus que jamais lors des périodes troubles que nous sommes en train de vivre\, plutôt que de prévoir le pire\, construisons le meilleur et traçons ensemble de nouveaux caps enthousiasmants en laissant libre cours à notre imagination. C’est l’objectif de cet atelier qui vous propose de dépasser le pessimisme ambiant et de vous remettre\, le temps de quelques heures\, dans un espace où tout est possible. Car l’utopie change le monde. Comme le dit Sandrine Roudaut\, notre marraine : « Toutes les belles avancées de l’humanité\, nos droits comme nos innovations\, qui nous paraissent des évidences d’aujourd’hui étaient toutes des utopies hier. Les belles évidences de demain ne peuvent naitre que dans nos utopies ! » \nCet atelier est à destination du grand public. Professionnels des sujets éco-citoyens ou amateurs curieux\, tout le monde peut participer à ce voyage. Grâce aux cartes oracles\, les participants auront un aperçu des perspectives enthousiasmantes qui nous attendent en 2030 glorieuses sur des enjeux variés : les nouvelles formes de travail\, la consommation durable\, l’économie au service du Vivant\, la mobilité active ou encore la technologie réparable et low-tech. \nAu programme\nD’une durée de 2 heures\, ce voyage en 2030 glorieuses est une invitation à reprendre collectivement le pouvoir des imaginaires : \n\nRêver en grand et lutter contre l’éco-anxiété\,\nVivre une expérience collective transformatrice\,\nDonner votre avis positif sur l’avenir de la société\,\nRecréer un lien de désirabilité avec l’avenir !\n\nDécouvrez Ca commence par moi ?\nÇa commence par moi\, par vous\, par nous d’initier notre parcours écocitoyen ambitieux. Un changement qui se fait dans la durée\, seul et collectivement\, lentement et rapidement\, dans les détails et dans la radicalité avec une ambition forte : plutôt que de se déculpabiliser de sa surconsommation débridée dans un monde capitaliste\, il est urgent de décloisonner nos habitudes pour remettre le Vivant au cœur de tout\, pour expérimenter et construire dès aujourd’hui un monde durable\, solidaire et heureux ! \nPlus d’informations sur : www.2030glorieuses.org \nINFORMATIONS PRATIQUES\n👉 INSCRIPTIONS OBLIGATOIRES (cliquez juste ici)\nVotre inscription vous engage\, merci de nous prévenir 48h en avance en cas d’annulation. Les participations sont limitées ainsi\, si vous réservez une place et que vous ne venez pas\, vous empêchez une personne motivée de participer à l’événement. \nLes participant·es sont susceptibles d’être photographié·es ou filmé·es. Si vous ne souhaitez pas apparaître sur les photos/vidéos\, il vous suffit de nous prévenir en début d’atelier. \nCet événement se déroulera à La Maison du Zéro Déchet – 1 passage Emma Calvé\, 75012 Paris. \nAccès métro : Reuilly-Diderot\, Faidherbe-Chaligny et Nation.
URL:https://lamaisonduzerodechet.org/evenements/voyage-en-2030-glorieuses-3/
LOCATION:La Maison du Zéro Déchet\, 1\, passage Emma Calvé\, Paris\, 75012\, France
CATEGORIES:Atelier pratique
ATTACH;FMTTYPE=image/jpeg:https://lamaisonduzerodechet.org/wp-content/uploads/2024/07/17-sept-2030.jpg
END:VEVENT
BEGIN:VEVENT
DTSTART;TZID=Europe/Paris:20240518T140000
DTEND;TZID=Europe/Paris:20240518T163000
DTSTAMP:20260421T004851
CREATED:20240426T100323Z
LAST-MODIFIED:20240426T100323Z
UID:10002799-1716040800-1716049800@lamaisonduzerodechet.org
SUMMARY:Voyage en 2030 glorieuses
DESCRIPTION:Retrouvons-nous pour explorer les mondes de demain !\nLe temps d’un atelier\, on vous propose de voyager en 2030 Glorieuses grâce à une conversation utopique qui donnera la possibilité aux participant.e.s de dessiner ensemble les contours d’une société plus durable et solidaire d’ici 10 ans. En petits groupes de 5 à 8 personnes\, vous imaginerez à quoi vos vies ressembleront\, depuis l’échelle individuelle jusqu’au niveau sociétal ! \nPlus que jamais lors des périodes troubles que nous sommes en train de vivre\, plutôt que de prévoir le pire\, construisons le meilleur et traçons ensemble de nouveaux caps enthousiasmants en laissant libre cours à notre imagination. C’est l’objectif de cet atelier qui vous propose de dépasser le pessimisme ambiant et de vous remettre\, le temps de quelques heures\, dans un espace où tout est possible. Car l’utopie change le monde. Comme le dit Sandrine Roudaut\, notre marraine : « Toutes les belles avancées de l’humanité\, nos droits comme nos innovations\, qui nous paraissent des évidences d’aujourd’hui étaient toutes des utopies hier. Les belles évidences de demain ne peuvent naitre que dans nos utopies ! » \nCet atelier est à destination du grand public. Professionnels des sujets éco-citoyens ou amateurs curieux\, tout le monde peut participer à ce voyage. Grâce aux cartes oracles\, les participants auront un aperçu des perspectives enthousiasmantes qui nous attendent en 2030 glorieuses sur des enjeux variés : les nouvelles formes de travail\, la consommation durable\, l’économie au service du Vivant\, la mobilité active ou encore la technologie réparable et low-tech. \nAu programme\nD’une durée de 2 heures\, ce voyage en 2030 glorieuses est une invitation à reprendre collectivement le pouvoir des imaginaires : \n\nRêver en grand et lutter contre l’éco-anxiété\,\nVivre une expérience collective transformatrice\,\nDonner votre avis positif sur l’avenir de la société\,\nRecréer un lien de désirabilité avec l’avenir !\n\nDécouvrez Ca commence par moi ?\nÇa commence par moi\, par vous\, par nous d’initier notre parcours écocitoyen ambitieux. Un changement qui se fait dans la durée\, seul et collectivement\, lentement et rapidement\, dans les détails et dans la radicalité avec une ambition forte : plutôt que de se déculpabiliser de sa surconsommation débridée dans un monde capitaliste\, il est urgent de décloisonner nos habitudes pour remettre le Vivant au cœur de tout\, pour expérimenter et construire dès aujourd’hui un monde durable\, solidaire et heureux ! \nPlus d’informations sur : www.2030glorieuses.org \nINFORMATIONS PRATIQUES\n👉 INSCRIPTIONS OBLIGATOIRES (cliquez juste ici)\nVotre inscription vous engage\, merci de nous prévenir 48h en avance en cas d’annulation. Les participations sont limitées ainsi\, si vous réservez une place et que vous ne venez pas\, vous empêchez une personne motivée de participer à l’événement. \nLes participant·es sont susceptibles d’être photographié·es ou filmé·es. Si vous ne souhaitez pas apparaître sur les photos/vidéos\, il vous suffit de nous prévenir en début d’atelier. \nCet événement se déroulera à La Maison du Zéro Déchet – 1 passage Emma Calvé\, 75012 Paris. \nAccès métro : Reuilly-Diderot\, Faidherbe-Chaligny et Nation.
URL:https://lamaisonduzerodechet.org/evenements/voyage-en-2030-glorieuses-2/
LOCATION:La Maison du Zéro Déchet\, 1\, passage Emma Calvé\, Paris\, 75012\, France
CATEGORIES:Atelier pratique
ATTACH;FMTTYPE=image/jpeg:https://lamaisonduzerodechet.org/wp-content/uploads/2024/04/18-maiii.jpg
END:VEVENT
BEGIN:VEVENT
DTSTART;TZID=Europe/Paris:20240222T190000
DTEND;TZID=Europe/Paris:20240222T220000
DTSTAMP:20260421T004851
CREATED:20240115T130104Z
LAST-MODIFIED:20240115T131840Z
UID:10002725-1708628400-1708639200@lamaisonduzerodechet.org
SUMMARY:Voyage en 2030 glorieuses
DESCRIPTION:Retrouvons-nous pour explorer les mondes de demain !\nLe temps d’un atelier\, on vous propose de voyager en 2030 Glorieuses grâce à une conversation utopique qui donnera la possibilité aux participant.e.s de dessiner ensemble les contours d’une société plus durable et solidaire d’ici 10 ans. En petits groupes de 4 à 6 personnes\, vous imaginerez à quoi vos vies ressembleront\, depuis l’échelle individuelle jusqu’au niveau sociétal ! \nPlus que jamais lors des périodes troubles que nous sommes en train de vivre\, plutôt que de prévoir le pire\, construisons le meilleur et traçons ensemble de nouveaux caps enthousiasmants en laissant libre cours à notre imagination. C’est l’objectif de cet atelier qui vous propose de dépasser le pessimisme ambiant et de vous remettre\, le temps de quelques heures\, dans un espace où tout est possible. Car l’utopie change le monde. Comme le dit Sandrine Roudaut\, notre marraine : « Toutes les belles avancées de l’humanité\, nos droits comme nos innovations\, qui nous paraissent des évidences d’aujourd’hui étaient toutes des utopies hier. Les belles évidences de demain ne peuvent naitre que dans nos utopies ! » \nCet atelier est à destination du grand public. Professionnels des sujets éco-citoyens ou amateurs curieux\, tout le monde peut participer à ce voyage. Grâce aux cartes oracles\, les participants auront un aperçu des perspectives enthousiasmantes qui nous attendent en 2030 glorieuses sur des enjeux variés : les nouvelles formes de travail\, la consommation durable\, l’économie au service du Vivant\, la mobilité active ou encore la technologie réparable et low-tech. \nAu programme\nD’une durée de 2 heures\, ce voyage en 2030 glorieuses est une invitation à reprendre collectivement le pouvoir des imaginaires : \n\nRêver en grand et lutter contre l’éco-anxiété\,\nVivre une expérience collective transformatrice\,\nDonner votre avis positif sur l’avenir de la société\,\nRecréer un lien de désirabilité avec l’avenir !\n\n  \nDécouvrez Ca commence par moi ?\nÇa commence par moi\, par vous\, par nous d’initier notre parcours écocitoyen ambitieux. Un changement qui se fait dans la durée\, seul et collectivement\, lentement et rapidement\, dans les détails et dans la radicalité avec une ambition forte : plutôt que de se déculpabiliser de sa surconsommation débridée dans un monde capitaliste\, il est urgent de décloisonner nos habitudes pour remettre le Vivant au coeur de tout\, pour expérimenter et construire dès aujourd’hui un monde durable\, solidaire et heureux ! \n  \n  \nINFORMATIONS PRATIQUES\n👉 INSCRIPTIONS OBLIGATOIRES (cliquez juste ici)\nVotre inscription vous engage\, merci de nous prévenir 48h en avance en cas d’annulation. Les participations sont limitées ainsi\, si vous réservez une place et que vous ne venez pas\, vous empêchez une personne motivée de participer à l’événement. \nLes participant·es sont susceptibles d’être photographié·es ou filmé·es. Si vous ne souhaitez pas apparaître sur les photos/vidéos\, il vous suffit de nous prévenir en début d’atelier. \nCet événement se déroulera à La Maison du Zéro Déchet – 1 passage Emma Calvé\, 75012 Paris. \nAccès métro : Reuilly-Diderot\, Faidherbe-Chaligny et Nation.
URL:https://lamaisonduzerodechet.org/evenements/voyage-en-2030-glorieuses/
LOCATION:La Maison du Zéro Déchet\, 1\, passage Emma Calvé\, Paris\, 75012\, France
CATEGORIES:Atelier pratique
ATTACH;FMTTYPE=image/jpeg:https://lamaisonduzerodechet.org/wp-content/uploads/2024/01/Bannieres-event-site_NEW-11.jpg
END:VEVENT
END:VCALENDAR