BEGIN:VCALENDAR
VERSION:2.0
PRODID:-//La Maison du Zéro Déchet - ECPv6.15.14//NONSGML v1.0//EN
CALSCALE:GREGORIAN
METHOD:PUBLISH
X-ORIGINAL-URL:https://lamaisonduzerodechet.org
X-WR-CALDESC:Évènements pour La Maison du Zéro Déchet
REFRESH-INTERVAL;VALUE=DURATION:PT1H
X-Robots-Tag:noindex
X-PUBLISHED-TTL:PT1H
BEGIN:VTIMEZONE
TZID:Europe/Paris
BEGIN:DAYLIGHT
TZOFFSETFROM:+0100
TZOFFSETTO:+0200
TZNAME:CEST
DTSTART:20200329T010000
END:DAYLIGHT
BEGIN:STANDARD
TZOFFSETFROM:+0200
TZOFFSETTO:+0100
TZNAME:CET
DTSTART:20201025T010000
END:STANDARD
BEGIN:DAYLIGHT
TZOFFSETFROM:+0100
TZOFFSETTO:+0200
TZNAME:CEST
DTSTART:20210328T010000
END:DAYLIGHT
BEGIN:STANDARD
TZOFFSETFROM:+0200
TZOFFSETTO:+0100
TZNAME:CET
DTSTART:20211031T010000
END:STANDARD
BEGIN:DAYLIGHT
TZOFFSETFROM:+0100
TZOFFSETTO:+0200
TZNAME:CEST
DTSTART:20220327T010000
END:DAYLIGHT
BEGIN:STANDARD
TZOFFSETFROM:+0200
TZOFFSETTO:+0100
TZNAME:CET
DTSTART:20221030T010000
END:STANDARD
BEGIN:DAYLIGHT
TZOFFSETFROM:+0100
TZOFFSETTO:+0200
TZNAME:CEST
DTSTART:20230326T010000
END:DAYLIGHT
BEGIN:STANDARD
TZOFFSETFROM:+0200
TZOFFSETTO:+0100
TZNAME:CET
DTSTART:20231029T010000
END:STANDARD
END:VTIMEZONE
BEGIN:VEVENT
DTSTART;TZID=Europe/Paris:20221116T190000
DTEND;TZID=Europe/Paris:20221116T213000
DTSTAMP:20260420T210944
CREATED:20221027T101039Z
LAST-MODIFIED:20221115T091704Z
UID:10002452-1668625200-1668634200@lamaisonduzerodechet.org
SUMMARY:[ANNULÉ] Groupe de parole sur le thème de l'éco-anxiété
DESCRIPTION:L’avenir climatique et écologique vous affecte et vous avez besoin d’en parler ? \nDans un espace en petit comité et bienveillant\, ceci est une invitation à se rejoindre et se rencontrer afin de pouvoir accueillir\, exprimer et partager les ressentis et émotions face à l’urgence écologique. Accompagné par deux professionnelles spécialistes de l’éco–anxiété\, ce groupe de parole dans le respect et l’écoute mutuelle de chacun.e a pour effet de se sentir moins seul.e\, plus soutenu.e et confiant.e face aux difficultés éprouvées. \n  \nQui sont les intervenantes spécialistes de l’éco-anxiété ?\nColombe Breguet est psychologue clinicienne\, elle est spécialisée dans la psychologie existentielle et écopsychologie. Elle est également conférencière sur le sujet de l’éco–anxiété et en formation d’art–thérapie et d’hortithérapie.  \nClaire Tauty est psychopraticienne\, elle est spécialiste en analyse psycho-organique et en ecopsychothérapie. Elle est également animatrice de groupes de parole et d’ateliers sur le climat.  \n  \nInformation complémentaires\n\nÉVÈNEMENT ANNULÉ
URL:https://lamaisonduzerodechet.org/evenements/groupe-de-parole-sur-le-theme-de-leco-anxiete/
LOCATION:La Maison du Zéro Déchet\, 1\, passage Emma Calvé\, Paris\, 75012\, France
CATEGORIES:Discussion
ATTACH;FMTTYPE=image/jpeg:https://lamaisonduzerodechet.org/wp-content/uploads/2022/10/Bannières-event-site-2-copie-2-9.jpg
END:VEVENT
BEGIN:VEVENT
DTSTART;TZID=Europe/Paris:20221108T190000
DTEND;TZID=Europe/Paris:20221108T204500
DTSTAMP:20260420T210944
CREATED:20221021T132559Z
LAST-MODIFIED:20221108T102322Z
UID:10002445-1667934000-1667940300@lamaisonduzerodechet.org
SUMMARY:[ANNULÉ] Café Envie d'Agir : "Comment lutter contre le gaspillage ?"
DESCRIPTION:  \nLe mardi 8 novembre de 19h à 20h45\, l’association Astérya vous invite à une discussion sur les différentes manières d’agir sur le thème de la lutte contre le gaspillage (alimentaire et autres) ! D’autres associations seront invitées\, telles que Zero Waste Paris et la Maison du Zéro Déchet. \n  \nPrésentation d’Astérya\nCréée en 2014\, l’association Astérya est partie du constat suivant : de nombreuses personnes souhaitent s’engager pour une cause qui leur tient à coeur mais ne trouvent pas toujours la forme ou la structure qui leur correspond. Pourtant\, les moyens de s’engager sont nombreux : bénévolat associatif\, initiatives locales\, conseils de quartier\, projets collaboratifs… \nAstérya se donne donc pour objectif de favoriser la participation et l’engagement citoyen\, sous toutes ses formes. Elle accompagne les personnes qui le souhaitent\, notamment les personnes socialement vulnérables\, isolées ou marginalisées\, vers l’engagement\, en les aidant à trouver une ou plusieurs manières d’agir qui leur correspond. \n  \nAu programme\n\nAccueil des participant-es\, présentation du Café\, d’Astérya\, de Zero Waste Paris et de la Maison du Zéro Déchet – 10 min\nBrise-glace – 10 min\nQuizz sur le gaspillage – 20 min\nDébat mouvant : se positionner sur les manières d’agir et expliquer son choix – 40 min (ex. Pour lutter contre le gaspillage\, tu préfères être bénévole dans une ressourcerie\, ou animer des ateliers de fabrication de produits (ex. shampoing\, éponge etc) ?).  \nConclusion – 5 min\nTemps d’échange libre entre associations et participant-es – environ 10 min\n\n  \n  \nINFORMATIONS COMPLÉMENTAIRES\nÉVÈNEMENT ANNULÉ
URL:https://lamaisonduzerodechet.org/evenements/cafe-envie-dagir-comment-lutter-contre-le-gaspillage/
LOCATION:La Maison du Zéro Déchet\, 1\, passage Emma Calvé\, Paris\, 75012\, France
CATEGORIES:Formation
ATTACH;FMTTYPE=image/jpeg:https://lamaisonduzerodechet.org/wp-content/uploads/2022/10/Bannières-event-site-2-7.jpg
END:VEVENT
BEGIN:VEVENT
DTSTART;TZID=Europe/Paris:20221008T100000
DTEND;TZID=Europe/Paris:20221008T120000
DTSTAMP:20260420T210944
CREATED:20220927T143128Z
LAST-MODIFIED:20221007T134850Z
UID:10002167-1665223200-1665230400@lamaisonduzerodechet.org
SUMMARY:Rencontre Couches lavables et bébé ZD avec Marianne Bertrel
DESCRIPTION:re Le samedi 8 octobre\, Marianne Bertrel\, auteure du Guide complet des couches lavables\, sera à La Maison du Zéro Déchet pour vous rencontrer et échanger au sujet de l’utilisation des couches lavables mais également de toutes les alternatives pour s’occuper de bébé en mode zéro déchet. \nSe rencontrer pour échanger :\nDe sa naissance jusqu’à l’âge de propreté\, un bébé peut consommer jusqu’à 6000 couches jetables\, équivalent à 1 tonne de déchets. Ces couches\, composées de plastique et autres substances chimiques\, dont certaines toxiques\, sont responsables de nombreuses pollutions environnementales… Mais ce n’est que la face visible de l’iceberg que constituent les nombreuses sources de déchets qu’occasionne l’arrivée d’un nouveau né dans un foyer. \nMarianne Bertrel\, auteure du Guide complet des couches lavables\, vous invite à découvrir les alternatives zéro déchet s’offrant à vous pour vous occuper de bébé\, de la couche lavable au biberon en verre en passant par les savons solides. \nGrâce à ses conseils avisés\, elle vous aidera à profiter de l’arrivée d’un enfant pour opérer une transition vers un mode de vie zéro déchet et un comportement écoresponsable bénéfique en premier lieu pour le nouveau-né\, la famille et plus généralement pour la planète ! \nMais qui est Marianne Bertrel ?\nMarianne Bertrel est accompagnante parentale\, ancienne directrice d’une crèche éco-responsable et Montessori. Maman d’une petite fratrie\, elle anime aussi le blog La Parentalité autrement. \nInformations pratiques\nInscriptions obligatoires en bas de page. \nCet événement se déroulera au café associatif de la Maison du Zéro Déchet – 1 passage Emma Calvé\, 75012 Paris.
URL:https://lamaisonduzerodechet.org/evenements/rencontre-couches-lavables-et-bebe-zd-avec-marianne-bertrel/
LOCATION:La Maison du Zéro Déchet\, 1\, passage Emma Calvé\, Paris\, 75012\, France
CATEGORIES:Rencontre
ATTACH;FMTTYPE=image/jpeg:https://lamaisonduzerodechet.org/wp-content/uploads/2022/09/Bannieres-event-site_marianne.jpg
END:VEVENT
BEGIN:VEVENT
DTSTART;TZID=Europe/Paris:20221006T190000
DTEND;TZID=Europe/Paris:20221006T210000
DTSTAMP:20260420T210944
CREATED:20220905T144446Z
LAST-MODIFIED:20220905T144446Z
UID:10002153-1665082800-1665090000@lamaisonduzerodechet.org
SUMMARY:Rencontre-dédicace autour du livre "Déchets partout\, justice nulle part"
DESCRIPTION:À l’occasion de la sortie du livre Déchets partout\, justice nulle part. Manifeste pour un projet de société zéro déchet\, zéro gaspillage (Rue de l’échiquier)\, Zero Waste France vous invite à venir rencontrer les autrices Alice Elfassi et Moïra Tourneur\, le 6 octobre à 19h à la Maison du Zéro Déchet. Après une présentation du livre par les autrices\, un temps d’échange est prévu avec le public\, suivi d’une séance de dédicaces et d’un moment convivial au café associatif ! \nA propos du livre :\nDepuis la parution du manifeste de l’association Zero Waste France\, Le Scénario Zero Waste 2.0.\, en 2017\, le mouvement « zéro déchet\, zéro gaspillage » a fait bien du chemin ! \nSouvent perçue comme une action individuelle réservée aux classes sociales supérieures et déconnectée des réalités des ménages les plus modestes\, la démarche zero waste nécessite d’être évaluée sans complaisance. Si la promotion des petits gestes du quotidien pour réduire ses déchets représente pour beaucoup un moyen concret d’accès aux enjeux écologiques\, elle peut occulter la nécessité d’une lutte collective et politique en matière de production et de gestion des déchets\, qui ne laisse personne sur le côté. \nDans ce manifeste\, Alice Elfassi et Moïra Tourneur\, toutes deux salariées de Zero Waste France\, jettent les bases d’un projet de société respectueux des limites planétaires et soucieux d’égalité\, en s’appuyant sur quatre piliers : la justice environnementale\, la justice économique\, la justice sociale et la justice populaire. Leur ambition est de faire sauter les verrous systémiques et les rapports de force biaisés qui obstruent les voies d’un véritable changement. Les autrices analysent les stratagèmes environnementaux\, économiques\, sociaux et démocratiques du modèle actuel « pollueur-gaspilleur »\, et proposent\, dans un esprit de convergence des luttes\, une alternative concrète et solidaire. \nCet événement se déroulera à La Maison du Zéro Déchet – 1 passage Emma Calvé\, 75012 Paris. \nAccès métro : Reuilly-Diderot\, Faidherbe-Chaligny et Nation. \nGratuit – sur inscription
URL:https://lamaisonduzerodechet.org/evenements/rencontre-dedicace-autour-du-livre-dechets-partout-justice-nulle-part/
LOCATION:La Maison du Zéro Déchet\, 1\, passage Emma Calvé\, Paris\, 75012\, France
CATEGORIES:Conférence,Dédicace,Rencontre
ATTACH;FMTTYPE=image/jpeg:https://lamaisonduzerodechet.org/wp-content/uploads/2022/09/Bannieres-event-site1.jpg
END:VEVENT
BEGIN:VEVENT
DTSTART;TZID=Europe/Paris:20220721T190000
DTEND;TZID=Europe/Paris:20220721T203000
DTSTAMP:20260420T210944
CREATED:20220705T155950Z
LAST-MODIFIED:20220705T160615Z
UID:10002413-1658430000-1658435400@lamaisonduzerodechet.org
SUMMARY:Sensibilisation aux règles zéro déchet
DESCRIPTION:Le principe\nLes règles zéro déchet\, possible ?\nAvoir ses menstruations dans notre société\, c’est subir toute une série d’achats obligatoires de serviettes hygiéniques et de tampons. Ces derniers nous sont présentés dès le plus jeune âge comme des produits d’hygiène incontournables car indispensables. Aujourd’hui\, nous prenons de plus en plus conscience du poids de ces produits au sein de notre budget\, notre santé\, notre production de déchet. \nBien heureusement\, de nombreuses solutions à la fois confortables et écologiques sont maintenant disponibles. \n \nLe programme\nDécouvrez les alternatives Zéro Déchet pour la gestion des règles !\nNous vous présenterons nos solutions menstrues zéro déchet préférées : \n\nla cup\nles serviettes hygiéniques lavables\nla culotte de règles\n\nNous ferons un point sur les règles\, leur origine biologique\, leur histoire et leur impact sur notre quotidien de femmes. Puis\, nous testerons l’absorption\, la contenance\, le nettoyage des alternatives aux produits conventionnels. Nous parlerons également confort\, coût\, durabilité\, fuites… Enfin\, nous partagerons nos conseils pour s’équiper et pour organiser l’utilisation des protections périodiques lavables. \nCela vous permettra de tout connaître (ou presque) sur les protections menstruelles zéro déchet ! \nVous pouvez également lire notre article sur le sujet : ici ! \n  \nINFORMATIONS COMPLÉMENTAIRES\n\nINSCRIPTIONS OBLIGATOIRES EN BAS DE PAGE\nVotre inscription vous engage\, merci de nous prévenir 48h à l’avance en cas d’annulation\, nous pourrons ainsi vous proposer de participer à un autre événement du même type. Les participations sont limitées ainsi\, si vous réservez une place et que vous ne venez pas\, vous empêchez une personne motivée de participer à l’événement. \nLes participant·es sont susceptibles d’être photographié·es ou filmé·es. Si vous ne souhaitez pas apparaître sur les photos/vidéos\, il vous suffit de nous prévenir en début d’atelier. \nCet événement se déroulera à La Maison du Zéro Déchet – 1 passage Emma Calvé\, 75012 Paris. \nAccès métro : Reuilly-Diderot\, Faidherbe-Chaligny et Nation.
URL:https://lamaisonduzerodechet.org/evenements/sensibilisation-aux-regles-zero-dechet-7/
LOCATION:La Maison du Zéro Déchet\, 1\, passage Emma Calvé\, Paris\, 75012\, France
CATEGORIES:Initiation
ATTACH;FMTTYPE=image/jpeg:https://lamaisonduzerodechet.org/wp-content/uploads/2022/07/Bannière-sitePublication-FB-32.jpg
END:VEVENT
BEGIN:VEVENT
DTSTART;TZID=Europe/Paris:20220217T190000
DTEND;TZID=Europe/Paris:20220217T210000
DTSTAMP:20260420T210944
CREATED:20220127T140731Z
LAST-MODIFIED:20220202T143402Z
UID:10002360-1645124400-1645131600@lamaisonduzerodechet.org
SUMMARY:Rencontre avec Julien Vidal
DESCRIPTION:Jeudi 17 Février à 19H\, retrouvez Julien Vidal qui présentera son nouveau livre paru en librairie le 19 Janvier 2022 « 2030 Glorieuses\, utopies vivantes » publié chez Domaine du Possible\, Actes Sud avec l’aide de l’illustratrice Lauriane Miara. \nAprès ses études de droit et de politique internationale\, Julien Vidal décide de partir dans l’humanitaire en Colombie et aux Philipines via le Volontariat de solidarité internationale (VSI). Après cette expérience et son retour en France\, il crée le projet Ça commence par moi en 2018 tandis qu’il continue de travailler au sein de l’Association Unis-Cité\, puis publie Ça va changer avec vous en 2019 et Redonner du pouvoir à son argent en 2020. \nAujourd’hui\, après sa série de podcasts\, il publie 2030 Glorieuses en version papier où il y peint une République du vivant et une société égalitaire et utopiste. \n  \n« N’ayons pas peur de l’avenir : un futur enthousiasmant est en gestation ! Bien sûr\, il va falloir affronter le chaos climatique et ses conséquences sur toutes les espèces vivantes. Pourtant\, en mettant le cap vers une “nouvelle civilisation”\, les épreuves à venir seront l’occasion d’inventer ensemble une société durable et solidaire. Il y a eu les 30 Glorieuses dopées aux énergies fossiles ; il y aura les 2030 Glorieuses nourries par l’entraide\, la créativité\, l’innovation frugale\, la conscience d’un destin commun\, l’empathie. Le xxie siècle sera bien celui des croissances : croissance du lien\, croissance de la régénération des écosystèmes\, croissance de la reconnexion à nous-mêmes\, croissance du partage\, croissance du bonheur. Julien Vidal nous propose de voyager dans un futur utopiste dont les germes sont déjà partout autour de nous. Les personnages inspirants qu’il rencontre initient une société régénérative et redistributive en harmonie avec les logiques naturelles : circularité\, sobriété\, adaptation\, multifonctionnalité. Ils sont des milliers dans nos régions à montrer que l’action est le meilleur remède contre le fatalisme et que\, si nous agissons avec ambition et amour\, la décennie des 2030 Glorieuses est à portée de main. Alors\, pour faire advenir le plus tôt possible cette ère nouvelle\, rejoignons-les et formons collectivement cette République du Vivant ! » \n  \n  \nINFORMATIONS PRATIQUES\nPASS VACCINAL OBLIGATOIRE dès l’âge de 16 ans : selon la loi en vigueur\, nous vous demanderons la présentation d’un pass vaccinal valide le jour de l’événement. \nA la suite de la rencontre une vente et séance de dédicaces du nouvel ouvrage de Julien Vidal est prévue. \nLes participant·es sont susceptibles d’être photographié·es ou filmé·es. Si vous ne souhaitez pas apparaître sur les photos/vidéos\, il vous suffit de nous prévenir. \nL’événement se déroule à la Maison du Zéro Déchet\, 1 passage Emma Calvé. \n 
URL:https://lamaisonduzerodechet.org/evenements/rencontre-avec-julien-vidal/
LOCATION:La Maison du Zéro Déchet\, 1\, passage Emma Calvé\, Paris\, 75012\, France
CATEGORIES:Rencontre
ATTACH;FMTTYPE=image/jpeg:https://lamaisonduzerodechet.org/wp-content/uploads/2022/01/00001.jpg
END:VEVENT
BEGIN:VEVENT
DTSTART;TZID=Europe/Paris:20211001T183000
DTEND;TZID=Europe/Paris:20211001T200000
DTSTAMP:20260420T210944
CREATED:20210923T091539Z
LAST-MODIFIED:20210923T091539Z
UID:10002332-1633113000-1633118400@lamaisonduzerodechet.org
SUMMARY:Guide complet des couches lavables : rencontre avec Marianne Bertrel
DESCRIPTION:Les couches jetables représentent un véritable fléau écologique ! De sa naissance jusqu’à l’âge de propreté\, un bébé peut consommer jusqu’à 6000 couches jetables\, équivalent à 1 tonne de déchets. Ces couches\, composées de plastique et autres substances chimiques\, dont certaines toxiques\, sont responsables de nombreuses pollutions environnementales. Moins nocive pour la planète et votre bébé\, la couche lavable est une alternative qui peut parfois s’avérer difficile à adopter. Comment gérer 2 à 8 couches lavables sales chaque jour sans le vivre comme un retour en arrière ou comme une contrainte de plus dans l’organisation quotidienne ? \nMarianne Bertrel\, auteure du Guide complet des couches lavables\, vient à votre rescousse avec ce livre qu’elle a créé comme véritable mode d’emploi de la couche lavable au quotidien. \nLa conférence\nLe vendredi 1 octobre\, Marianne Bertrel sera à La Maison du Zéro Déchet pour vous rencontrer et échanger au sujet de l’utilisation des couches lavables. \nCette rencontre est l’occasion rêvée pour tous les parents ou futurs-parents qui pensent se lancer dans l’aventure des couches lavables. \nAprès avoir présenté son œuvre et parlé de son expérience\, Marianne pourra répondre à toutes vos questions et vous donner ses meilleurs conseils. \nQue trouve-t-on dans ce guide ?\nCette spécialiste de la petite enfance\, également maman de deux enfants explique dans ce guide très complet tout ce qu’il faut savoir avant de se lancer : \n\nComment choisir parmi les différents modèles ?\nPour quelle matière opter ?\nQuels sont les accessoires indispensables ?\nComment stocker les couches sales ?\nComment les décrasser ? Quelles lessives sont conseillées ?\nComment convaincre la crèche d’accepter bébé avec ses couches lavables ?\nComment s’organiser en voyage ?\n\nEn bonus : \n\nUn guide d’achat des différentes marques + la liste des revendeurs et des loueurs\nRetour sur les idées reçues\nUne Foire Aux Questions\nDes infographies et des illustrations pleines d’humour\n\nMais qui est Marianne Bertrel ?\nMarianne Bertrel est accompagnante parentale\, ancienne directrice d’une crèche éco-responsable et Montessori. Maman de 2 enfants (bientôt 3)\, elle anime aussi le blog La Parentalité autrement. \nInformations pratiques\nInscriptions obligatoires \nCet événement se déroulera à La Maison du Zéro Déchet – 1 passage Emma Calvé\, 75012 Paris. \nPASS SANITAIRE : selon la loi en vigueur\, nous vous demanderons la présentation d’un pass sanitaire valide le jour de l’événement. Sera considéré comme valide : \n\nUn test antigénique ou PCR negatif datant de moins de 72h;\nLa présentation de votre carnet de vaccination complet;\nLe résultat d’un test RT-PCR ou antigénique positif attestant du rétablissement de la Covid-19\, datant d’au moins 11 jours et de moins de 6 mois.\n\n  \nVotre inscription vous engage : les participations sont limitées ainsi\, si vous réservez une place et que vous venez pas\, vous empêchez une personne motivée de participer à l’événement. \nNotre association a été fortement impactée par la crise sanitaire et fait aujourd’hui appel à votre soutien via un don d’un montant de votre choix au moment de votre inscription. Nous pourrons ainsi continuer d’informer et d’outiller les citoyen.nes aux démarches zéro déchet\, zéro gaspillage.
URL:https://lamaisonduzerodechet.org/evenements/guide-complet-des-couches-lavables-rencontre-avec-marianne-bertrel/
LOCATION:La Maison du Zéro Déchet\, 1\, passage Emma Calvé\, Paris\, 75012\, France
CATEGORIES:Rencontre
ATTACH;FMTTYPE=image/png:https://lamaisonduzerodechet.org/wp-content/uploads/2021/09/Rencontre-avec-marianne-bertrel.png
END:VEVENT
BEGIN:VEVENT
DTSTART;TZID=Europe/Paris:20210702T183000
DTEND;TZID=Europe/Paris:20210702T200000
DTSTAMP:20260420T210944
CREATED:20210623T151903Z
LAST-MODIFIED:20210623T151903Z
UID:10002321-1625250600-1625256000@lamaisonduzerodechet.org
SUMMARY:Rencontre avec Antonin Padovani auteur de "Bokashi"
DESCRIPTION:Faites la rencontre d’Antonin Padovani et percez les secrets du Bokashi\, la méthode de compost à la japonaise. \n  \nBokashi\, manuel du compost urbain à la japonaise\nUne famille française de quatre personnes génère en moyenne plus de 10 kg de déchets organiques par semaine. Des déchets qui encombrent les poubelles et qui pourraient être facilement valorisés. Mais tout le monde n’a pas la possibilité d’installer un compost volumineux au fond de son jardin. Le bokashi est la solution ! \nBokashi signifie « matière organique fermentée » en japonais. Ce mot désigne aussi une méthode de compostage qui permet de valoriser l’ensemble des déchets : épluchures bien sûr mais aussi viandes\, restes\, mouchoirs en papier… Ses deux atouts majeurs : il ne prend pas de place et ne provoque pas d’odeur. Il est parfait pour les personnes disposant de petits espaces\, qui souhaitent réduire leurs déchets et progresser vers un mode de vie zéro déchet. \n  \nMais qui est Antonin Padovani ?\nAntonin Padovani est journaliste\, spécialiste des enjeux environnementaux. Il collabore régulièrement avec la revue Mouvement UP\, pour laquelle il parcourt et observe les initiatives qui transforment notre rapport à la nature. Par ses lectures et l’observation attentive des luttes actuelles pour le climat\, il cherche à concilier les tenants d’une écologie du quotidien aux enjeux politiques et ontologiques qu’appelle la préservation du climat et de nos écosystèmes. \n  \nInformations pratiques\nÉvénement gratuit et en entrée libre. \nCet événement se déroulera à La Maison du Zéro Déchet – 1 passage Emma Calvé\, 75012 Paris. \nAccès métro : Reuilly-Diderot\, Faidherbe-Chaligny et Nation. \n\n  \nLa Maison du Zéro Déchet a pu réouvrir sa boutique\, la terrasse du café associatif et reprend ses événements sur place ! \n Cette année\, notre association a été fortement impactée par la crise sanitaire et fait aujourd’hui appel à votre soutien\, que ce soit en faisant un don directement sur notre site ou en vous inscrivant à un de nos ateliers.  \nGrâce à vous\, nous pourrons continuer à informer et outiller les citoyen.nes aux démarches zéro déchet\, zéro gaspillage. \n  \n 
URL:https://lamaisonduzerodechet.org/evenements/rencontre-avec-antonin-padovani-auteur-de-bokashi/
LOCATION:La Maison du Zéro Déchet\, 1\, passage Emma Calvé\, Paris\, 75012\, France
CATEGORIES:Conférence,Dédicace,Rencontre
ATTACH;FMTTYPE=image/png:https://lamaisonduzerodechet.org/wp-content/uploads/2021/06/Capture-décran-2021-06-23-à-15.26.06.png
END:VEVENT
BEGIN:VEVENT
DTSTART;TZID=Europe/Paris:20210623T190000
DTEND;TZID=Europe/Paris:20210623T203000
DTSTAMP:20260420T210944
CREATED:20210610T131831Z
LAST-MODIFIED:20210610T131831Z
UID:10002318-1624474800-1624480200@lamaisonduzerodechet.org
SUMMARY:[SUR PLACE] Rencontre avec Lucile Orliac - "Comment tout réparer (ou presque)"
DESCRIPTION:Venez rencontrer Lucile Orliac\, autrice du livre « Comment tout réparer (ou presque) » aux éditions Hachette et Marion Bocahut\, cheffe de projet éco-culturel de la REcyclerie\, partenaire dans la réalisation de ce livre.\n\nDéroulé\nAu cours de cette rencontre\, Lucile vous racontera ce qui l’a poussé à s’intéresser à la réparation et comment elle s’y est initiée. Vous pourrez lui posez vos questions\, échanger sur vos expériences et tester vos connaissances en bricolage lors d’un quizz par équipe !\nVous profiterez du cadre convivial du café associatif de la Maison du Zéro Déchet et de sa terrasse et pourrez déguster une boisson.\n\n\nCette rencontre est organisée en collaboration avec la REcyclerie\, tiers-lieu éco-responsable dans le 18ème arrondissement qui accompagne un large public dans la transition écologique et sociale.\n\n\n  \n\n« Comment tout réparer (ou presque) » en bref\nDans ce livre\, vous pourrez apprendre comment offrir une seconde vie à vos appareils les plus courant lorsqu’ils tombent en panne…et (essayer de) sauver la planète. Garanti anti-obsolescence programmée !\n\nDans ce livre vous trouverez (entre autre) comment :\n– réparer un sèche cheveux\, un babyphone\, un appareil à raclette\n– remplacer une fermeture éclair\, un câble d’alimentation\n– trouver les alternatives grâce au carnet de bonnes adresses…\n\n\n  \nInformations pratiques\nINSCRIPTION OBLIGATOIRE ICI\n\n\nCet événement se déroulera à La Maison du Zéro Déchet – 1 passage Emma Calvé\, 75012 Paris. \nAccès métro : Reuilly-Diderot\, Faidherbe-Chaligny et Nation. \nVotre inscription vous engage : les participations sont limitées ainsi\, si vous réservez une place\, vous empêchez une personne motivée de participer à l’événement. \n\n\n  \n\nLa Maison du Zéro Déchet a pu réouvrir sa boutique\, son café associatif et reprend ses événements sur place ! \n Cette année\, notre association a été fortement impactée par la crise sanitaire et fait aujourd’hui appel à votre soutien via votre inscription\, d’un montant de votre choix\, pour continuer à informer et outiller les citoyen.nes aux démarches zéro déchet\, zéro gaspillage.
URL:https://lamaisonduzerodechet.org/evenements/sur-place-rencontre-avec-lucile-orliac-comment-tout-reparer-ou-presque/
LOCATION:La Maison du Zéro Déchet\, 1\, passage Emma Calvé\, Paris\, 75012\, France
CATEGORIES:Dédicace,Rencontre
ATTACH;FMTTYPE=image/png:https://lamaisonduzerodechet.org/wp-content/uploads/2021/06/BANNIERE-FB-CONF-COMMENT-TOUT-REPARER.png
END:VEVENT
END:VCALENDAR