BEGIN:VCALENDAR
VERSION:2.0
PRODID:-//La Maison du Zéro Déchet - ECPv6.15.14//NONSGML v1.0//EN
CALSCALE:GREGORIAN
METHOD:PUBLISH
X-ORIGINAL-URL:https://lamaisonduzerodechet.org
X-WR-CALDESC:Évènements pour La Maison du Zéro Déchet
REFRESH-INTERVAL;VALUE=DURATION:PT1H
X-Robots-Tag:noindex
X-PUBLISHED-TTL:PT1H
BEGIN:VTIMEZONE
TZID:Europe/Paris
BEGIN:DAYLIGHT
TZOFFSETFROM:+0100
TZOFFSETTO:+0200
TZNAME:CEST
DTSTART:20250330T010000
END:DAYLIGHT
BEGIN:STANDARD
TZOFFSETFROM:+0200
TZOFFSETTO:+0100
TZNAME:CET
DTSTART:20251026T010000
END:STANDARD
BEGIN:DAYLIGHT
TZOFFSETFROM:+0100
TZOFFSETTO:+0200
TZNAME:CEST
DTSTART:20260329T010000
END:DAYLIGHT
BEGIN:STANDARD
TZOFFSETFROM:+0200
TZOFFSETTO:+0100
TZNAME:CET
DTSTART:20261025T010000
END:STANDARD
BEGIN:DAYLIGHT
TZOFFSETFROM:+0100
TZOFFSETTO:+0200
TZNAME:CEST
DTSTART:20270328T010000
END:DAYLIGHT
BEGIN:STANDARD
TZOFFSETFROM:+0200
TZOFFSETTO:+0100
TZNAME:CET
DTSTART:20271031T010000
END:STANDARD
END:VTIMEZONE
BEGIN:VEVENT
DTSTART;TZID=Europe/Paris:20260516T101500
DTEND;TZID=Europe/Paris:20260516T131500
DTSTAMP:20260420T180252
CREATED:20260403T141653Z
LAST-MODIFIED:20260403T141653Z
UID:10003108-1778926500-1778937300@lamaisonduzerodechet.org
SUMMARY:La Fresque du Climat
DESCRIPTION:Atelier Fresque du Climat\n\n\nBasée sur les travaux du GIEC\, « La Fresque du Climat » est un atelier d’intelligence collective sur le changement climatique.\n\n\n\n  \n\n\nÀ propos de cet évènement\n\n\nFace à l’urgence\, l’objectif de notre association est de former le plus grand nombre aux enjeux climatiques pour que chacun puisse décrypter les informations et agir efficacement sur le plan individuel et collectif. La Fresque du Climat permet aux novices comme aux expert.es de découvrir ou approfondir leur connaissance de ce sujet. \nL’atelier\nPendant 3h\, on embarque tout le monde dans une activité qui fait appel à la créativité et à l’intelligence collective pour comprendre les enjeux du changement climatique. Deux niveaux d’approches seront développées pour que les jeunes (10-15 ans) comme les plus grand.es (16 ans et +) y trouvent leur compte. \nUn animateur ou une animatrice encadre les équipes afin de les guider durant l’atelier\, d’assurer une bonne communication entre les membres et de donner des explications supplémentaires. \nDéroulé\n\nRéflexion : découvrir et mettre en lien les cartes pour co-construire la Fresque. La phase de réflexion sera plus poussée pour les adultes.\nCréativité : décompresser\, s’approprier la fresque et créer un esprit d’équipe en l’illustrant. La phase de créativité sera plus importante pour les plus jeunes.\nDebrief : échanger sur ses émotions\, questions\, et dessiner des solutions individuelles et collectives.\n\nEt après ?\nAprès avoir participé à cet atelier\, vous pouvez participer à l’atelier de l’adaptation au changement climatique\, qui complète bien la Fresque du climat. Inspiré de cette dernière\, l’atelier permet de mieux appréhender la différence entre atténuation et adaptation et de comprendre comment s’adapter pour réduire le risque climatique à court et moyen terme\, et faire collectivement les bons choix (éviter les maladaptations). \nLes plus grands pourront aussi se former à l’animation de la Fresque pour à leur tour être à l’aise pour parler de changement climatique. \nA votre tour d’organiser des ateliers pour devenir un acteur du mouvement de sensibilisation ! \nUn moment tout doux\, pour découvrir et prendre part au changement. \n\n\n\n\nInformations pratiques\n\n👉 INSCRIPTIONS OBLIGATOIRES (cliquez juste ici)\nVotre inscription vous engage\, merci de nous prévenir 48h en avance en cas d’annulation. Les participations sont limitées ainsi\, si vous réservez une place et que vous ne venez pas\, vous empêchez une personne motivée de participer à l’événement. \nPUBLIC : Atelier adulte à partir de 16 ans\, Atelier jeunes de 10 à 15 ans \nPour cet atelier\, les animateurs interviennent à titre bénévole en tant que membres actifs de l’association. \nLes participant·es sont susceptibles d’être photographié·es ou filmé·es. Si vous ne souhaitez pas apparaître sur les photos/vidéos\, il vous suffit de nous prévenir en début d’atelier. \nCet événement se déroulera à La Maison du Zéro Déchet – 1 passage Emma Calvé\, 75012 Paris. \nAccès métro : Reuilly-Diderot\, Faidherbe-Chaligny et Nation.
URL:https://lamaisonduzerodechet.org/evenements/la-fresque-du-climat-33/
LOCATION:La Maison du Zéro Déchet\, 1\, passage Emma Calvé\, Paris\, 75012\, France
CATEGORIES:Atelier pratique,Intelligence collective
ATTACH;FMTTYPE=image/jpeg:https://lamaisonduzerodechet.org/wp-content/uploads/2026/04/Bannieres-event-site_NEW26.jpg
END:VEVENT
BEGIN:VEVENT
DTSTART;TZID=Europe/Paris:20260520T190000
DTEND;TZID=Europe/Paris:20260520T220000
DTSTAMP:20260420T180252
CREATED:20260403T130406Z
LAST-MODIFIED:20260403T130406Z
UID:10003109-1779303600-1779314400@lamaisonduzerodechet.org
SUMMARY:La Fresque des Low-techs
DESCRIPTION:Atelier Fresque des Low-techs\n\n\n\n\n\nOuverte à tou.te.s ! \nLa Fresque des Low-techs est un atelier d’intelligence collective\, ludique et basé sur les données de rapports scientifiques officiels (UNEP\, etc.). Avec une trentaine de cartes\, les participant.e.s dessinent les limites et problèmes du système actuel\, tout en faisant émerger une solution soutenable (low-tech). \nLe but \n\nDresser les limites (déchets\, pollutions\, externalités\, conséquences sociétales…)\, les leviers d’actions et présenter les raisons pour lesquelles certains leviers (comme la circularité) présentent des contradictions.\n\n\nInverser les éléments délétères (tout en gardant ceux qui marchent) pour aboutir à la description d’une low-tech.\n\nLe programme\nL’atelier dure 3 heures : il se décompose en 20min de présentation\, 1h30 de jeu de cartes\, 15min de créativité artistique\, et 45min de discussions / mise en commun / débat ! Il se joue entre 4 et 8 personnes par table. \nPourquoi participer à cet atelier ?\nPour agir efficacement pour l’environnement\, il faut avoir les bons ordres de grandeur en tête\, et avoir identifié les problèmes les plus déterminants. En tant que citoyen\, le fonctionnement global de notre économie et des processus technologiques influence notre mode de vie et augmente notre impact. \nSuite à l’atelier\, vous serez mieux à même de décrypter les informations dans les médias (« auto-défense intellectuelle ») et de comprendre les changements importants à mettre en place ! \nEt après ?\nVous aurez accès au contenu proposé\, à des ressources complémentaires sur les données et les principes présentés\, ainsi qu’à une proposition de correction. \nOn vous attend nombreux.ses ! 😉 \n\n\n\n\nInformations pratiques\n\n\n\n\n👉 INSCRIPTIONS OBLIGATOIRES (cliquez juste ici)\nMerci d’arriver 5min en avance pour commencer et terminer à l’heure ! \nPour les plus motivés\, l’animateur.ice est disposé.e à prolonger les discussions pendant ~30min en plus à la fin\, si besoin. \nPour cet atelier citoyen\, les animateurs.rices interviennent à titre bénévole en tant que membres actif.ve.s de l’association. Le prix de votre participation est libre avec un minimum (5 ou 10€ selon votre situation financière) et cela est destiné à l’association La Fresque des Low-techs et à la Maison du Zéro Déchet. \nVotre inscription vous engage\, merci de nous prévenir 48h en avance en cas d’annulation. Les participations sont limitées ainsi\, si vous réservez une place et que vous ne venez pas\, vous empêchez une personne motivée de participer à l’événement. \nLes participant·es sont susceptibles d’être photographié·es ou filmé·es. Si vous ne souhaitez pas apparaître sur les photos/vidéos\, il vous suffit de nous prévenir en début d’atelier. \nCet événement se déroulera à La Maison du Zéro Déchet – 1 passage Emma Calvé\, 75012 Paris. \nAccès métro : Reuilly-Diderot\, Faidherbe-Chaligny et Nation. \n 
URL:https://lamaisonduzerodechet.org/evenements/la-fresque-des-low-techs-26/
LOCATION:La Maison du Zéro Déchet\, 1\, passage Emma Calvé\, Paris\, 75012\, France
CATEGORIES:Atelier pratique,Intelligence collective
ATTACH;FMTTYPE=image/jpeg:https://lamaisonduzerodechet.org/wp-content/uploads/2026/04/Bannieres-event-site_NEW27.jpg
END:VEVENT
BEGIN:VEVENT
DTSTART;TZID=Europe/Paris:20260523T101500
DTEND;TZID=Europe/Paris:20260523T131500
DTSTAMP:20260420T180252
CREATED:20260407T080315Z
LAST-MODIFIED:20260407T080315Z
UID:10003115-1779531300-1779542100@lamaisonduzerodechet.org
SUMMARY:La Fresque du Sexisme
DESCRIPTION:Atelier Fresque du Sexisme\n\n\nVous sentez que les inégalités de genre sont partout mais ne savez pas toujours comment les décrypter et agir ? Rejoignez-nous pour « La Fresque du Sexisme »\, un atelier d’intelligence collective qui change la donne !\n\n\n\n  \n\n\nÀ propos de cet évènement\n\n\nLa Fresque du sexisme\, c’est 3 heures d’exploration collective pour :\n✅ Décoder l’impact des stéréotypes de genre dans nos vies et dans la société\n✅ Comprendre les mécanismes invisibles qui entretiennent le sexisme\n✅ S’outiller pour agir individuellement et collectivement\n✅ Expérimenter un espace d’écoute et de partage bienveillant \n  \nDéroulé\n\nRéflexion : découvrir et mettre en lien les cartes pour co-construire la Fresque. La phase de réflexion sera plus poussée pour les adultes.\nCréativité : décompresser\, s’approprier la fresque et créer un esprit d’équipe en l’illustrant. La phase de créativité sera plus importante pour les plus jeunes.\nDebrief : échanger sur ses émotions\, questions\, et dessiner des solutions individuelles et collectives.\nRéflexion & prises de conscience : En équipe\, vous tissez les liens entre des faits concrets et vos expériences personnelles à travers un jeu de cartes dynamique.\nRessentis & émotions : Un temps pour partager\, s’exprimer et écouter\, sans tabou et un cadre de confiance sécurisant.\nLeviers d’action & mises en situation : On passe de la théorie à la pratique ! Repérez vos marges d’action et entraînez-vous à réagir face au sexisme du quotidien. \n\nPourquoi participer ?\nParce que comprendre\, c’est déjà agir. Parce que déconstruire le sexisme ensemble\, c’est se donner du pouvoir. Parce qu’on ressort de cet atelier avec des clés\, de l’énergie et une envie furieuse de faire bouger les choses ! \n  \n\n\nTout le monde est bienvenu·e !\nIl s’agit d’un atelier à destination du grand public et non des expert·es du sujet. Vous pourrez candidater pour vous former par la suite à la facilitation si vous souhaitez vous engager concrètement dans l’association. \nMerci d’arriver en avance\, afin que l’atelier puisse débuter et terminer à l’heure prévue. \nL’association La Fresque du sexisme œuvre pour visibiliser et enrayer les inégalités de genre\, en outillant un réseau engagé. \n  \n\n\nInformations pratiques\n\n👉 INSCRIPTIONS OBLIGATOIRES (cliquez juste ici)\nVotre inscription vous engage\, merci de nous prévenir 48h en avance en cas d’annulation. Les participations sont limitées ainsi\, si vous réservez une place et que vous ne venez pas\, vous empêchez une personne motivée de participer à l’événement. \nPour cet atelier\, les animateurs interviennent à titre bénévole en tant que membres actifs de l’association. \nLes participant·es sont susceptibles d’être photographié·es ou filmé·es. Si vous ne souhaitez pas apparaître sur les photos/vidéos\, il vous suffit de nous prévenir en début d’atelier. \nCet événement se déroulera à La Maison du Zéro Déchet – 1 passage Emma Calvé\, 75012 Paris. \nAccès métro : Reuilly-Diderot\, Faidherbe-Chaligny et Nation.
URL:https://lamaisonduzerodechet.org/evenements/la-fresque-du-sexisme-2/
LOCATION:La Maison du Zéro Déchet\, 1\, passage Emma Calvé\, Paris\, 75012\, France
CATEGORIES:Atelier pratique,Intelligence collective
ATTACH;FMTTYPE=image/jpeg:https://lamaisonduzerodechet.org/wp-content/uploads/2026/04/Bannieres-event-site_NEW35.jpg
END:VEVENT
BEGIN:VEVENT
DTSTART;TZID=Europe/Paris:20260609T190000
DTEND;TZID=Europe/Paris:20260609T220000
DTSTAMP:20260420T180252
CREATED:20260417T124445Z
LAST-MODIFIED:20260417T124445Z
UID:10003126-1781031600-1781042400@lamaisonduzerodechet.org
SUMMARY:La Fresque de la Sécurité sociale de l'alimentation
DESCRIPTION:Élaborée par La Marmite Rouge\, la Fresque de la Sécurité sociale de l’alimentation (SSA) est un outil d’éducation populaire qui vise à politiser le regard sur le système agro-industriel et à présenter la SSA. \nPendant trois heures\, les participant.es dialoguent sur les deux parties de la Fresque: la première porte sur les acteur.ices et impacts du système agro-industriel actuel\, la deuxième explore la SSA. \n  \nLa Marmite Rouge est une association militant pour la Sécurité sociale de l’alimentation (SSA). Elle est composée d’une trentaine de militant.es qui déploient leurs forces autour de projets d’éducation populaire pour promouvoir la Sécurité sociale de l’alimentation et d’expérimentation de caisses citoyennes d’alimentation à l’échelle de l’Est parisien. \n\nINFORMATIONS PRATIQUES\n👉 INSCRIPTIONS OBLIGATOIRES (cliquez juste ici)\nVotre inscription vous engage\, merci de nous prévenir 48h en avance en cas d’annulation. Les participations sont limitées ainsi\, si vous réservez une place et que vous ne venez pas\, vous empêchez une personne motivée de participer à l’événement. \nLes participant·es sont susceptibles d’être photographié·es ou filmé·es. Si vous ne souhaitez pas apparaître sur les photos/vidéos\, il vous suffit de nous prévenir en début d’atelier. \nCet événement se déroulera à La Maison du Zéro Déchet – 1 passage Emma Calvé\, 75012 Paris. \nAccès métro : Reuilly-Diderot\, Faidherbe-Chaligny et Nation.
URL:https://lamaisonduzerodechet.org/evenements/la-fresque-de-la-securite-sociale-de-lalimentation-5/
LOCATION:La Maison du Zéro Déchet\, 1\, passage Emma Calvé\, Paris\, 75012\, France
CATEGORIES:Atelier pratique,Intelligence collective
ATTACH;FMTTYPE=image/jpeg:https://lamaisonduzerodechet.org/wp-content/uploads/2026/04/Bannieres-event-site_NEW2.jpg
END:VEVENT
BEGIN:VEVENT
DTSTART;TZID=Europe/Paris:20260613T101500
DTEND;TZID=Europe/Paris:20260613T131500
DTSTAMP:20260420T180252
CREATED:20260417T093430Z
LAST-MODIFIED:20260417T093430Z
UID:10003123-1781345700-1781356500@lamaisonduzerodechet.org
SUMMARY:La Fresque du Numérique
DESCRIPTION:Atelier Fresque du Numérique\n\n\n\n\nLa Fresque du Numérique est un atelier ludique et collaboratif avec une pédagogie similaire à celle de La Fresque du Climat. Le but de l’atelier est de sensibiliser et former les participants aux enjeux environnementaux du numérique. L’atelier vise aussi à expliquer les grandes lignes des actions pour un numérique plus durable\, puis à ouvrir des discussions entre les participants sur le sujet. Cet atelier a été créé par Aurélien Déragne et Yvain Mouneu.\n\n\n\nInformations pratiques\n\n\n\n\n👉 INSCRIPTIONS OBLIGATOIRES (cliquez juste ici)\nPour cet atelier citoyen\, les animateurs.rices interviennent à titre bénévole en tant que membres actifs de l’association. Le prix de votre participation est libre avec un minimum de 5€ et cela est destiné à l’association La Fresque du Numérique et à la Maison du Zéro Déchet. \nVotre billet n’est pas modifiable et il est remboursable seulement jusqu’à 7 jours avant l’atelier\, on vous remercie de vous inscrire seulement si vous êtes sûr·e de pouvoir participer afin de ne pas bloquer de place pour d’autres. \nLes participant·es sont susceptibles d’être photographié·es ou filmé·es. Si vous ne souhaitez pas apparaître sur les photos/vidéos\, il vous suffit de nous prévenir au début de l’évènement. \nCet événement se déroulera à La Maison du Zéro Déchet – 1 passage Emma Calvé\, 75012 Paris. \nAccès métro : Reuilly-Diderot\, Faidherbe-Chaligny et Nation.
URL:https://lamaisonduzerodechet.org/evenements/la-fresque-du-numerique-37/
LOCATION:La Maison du Zéro Déchet\, 1\, passage Emma Calvé\, Paris\, 75012\, France
CATEGORIES:Atelier pratique,Intelligence collective
ATTACH;FMTTYPE=image/jpeg:https://lamaisonduzerodechet.org/wp-content/uploads/2026/04/Bannieres-event-site_NEW.jpg
END:VEVENT
END:VCALENDAR