BEGIN:VCALENDAR
VERSION:2.0
PRODID:-//La Maison du Zéro Déchet - ECPv6.15.14//NONSGML v1.0//EN
CALSCALE:GREGORIAN
METHOD:PUBLISH
X-ORIGINAL-URL:https://lamaisonduzerodechet.org
X-WR-CALDESC:Évènements pour La Maison du Zéro Déchet
REFRESH-INTERVAL;VALUE=DURATION:PT1H
X-Robots-Tag:noindex
X-PUBLISHED-TTL:PT1H
BEGIN:VTIMEZONE
TZID:Europe/Paris
BEGIN:DAYLIGHT
TZOFFSETFROM:+0100
TZOFFSETTO:+0200
TZNAME:CEST
DTSTART:20210328T010000
END:DAYLIGHT
BEGIN:STANDARD
TZOFFSETFROM:+0200
TZOFFSETTO:+0100
TZNAME:CET
DTSTART:20211031T010000
END:STANDARD
BEGIN:DAYLIGHT
TZOFFSETFROM:+0100
TZOFFSETTO:+0200
TZNAME:CEST
DTSTART:20220327T010000
END:DAYLIGHT
BEGIN:STANDARD
TZOFFSETFROM:+0200
TZOFFSETTO:+0100
TZNAME:CET
DTSTART:20221030T010000
END:STANDARD
BEGIN:DAYLIGHT
TZOFFSETFROM:+0100
TZOFFSETTO:+0200
TZNAME:CEST
DTSTART:20230326T010000
END:DAYLIGHT
BEGIN:STANDARD
TZOFFSETFROM:+0200
TZOFFSETTO:+0100
TZNAME:CET
DTSTART:20231029T010000
END:STANDARD
END:VTIMEZONE
BEGIN:VEVENT
DTSTART;TZID=Europe/Paris:20220611T140000
DTEND;TZID=Europe/Paris:20220611T170000
DTSTAMP:20260420T184353
CREATED:20220525T090041Z
LAST-MODIFIED:20220525T090041Z
UID:10002128-1654956000-1654966800@lamaisonduzerodechet.org
SUMMARY:La Fresque du climat
DESCRIPTION:Basée sur les travaux du GIEC\, « La Fresque du Climat » est un atelier d’intelligence collective sur le changement climatique.\n  \n\n\n\n\n\n\nÀ propos de cet évènement\n\n\nFace à l’urgence\, l’objectif de notre association est de former le plus grand nombre aux enjeux climatiques pour que chacun puisse décrypter les informations et agir efficacement sur le plan individuel et collectif. La Fresque du Climat permet aux novices comme aux experts de découvrir ou approfondir leur connaissance de ce sujet. \nL’atelier\nPendant 3h\, on embarque tout le monde dans une activité qui fait appel à la créativité et à l’intelligence collective pour comprendre les enjeux du changement climatique. Deux niveaux d’approches seront développées pour que les jeunes (10-15 ans) comme les plus grands (16 ans et +) y trouvent leur compte. \nUn animateur ou une animatrice encadre les équipes afin de les guider durant l’atelier\, d’assurer une bonne communication entre les membres et de donner des explications supplémentaires. \n  \nDéroulé\n\nRéflexion : découvrir et mettre en lien les cartes pour co-construire la Fresque. La phase de réflexion sera plus poussée pour les adultes.\nCréativité : décompresser\, s’approprier la fresque et créer un esprit d’équipe en l’illustrant. La phase de créativité sera plus importante pour les plus jeunes.\n Debrief : échanger sur ses émotions\, questions\, et dessiner des solutions individuelles et collectives.\n\nEt après ?\nAprès avoir participé à cet atelier\, les plus grands pourront aussi se former à l’animation de la Fresque pour à leur tour être à l’aise pour parler de changement climatique. \nA votre tour d’organiser des ateliers pour devenir un acteur du mouvement de sensibilisation ! \nUn moment tout doux\, pour découvrir et prendre part au changement. \nL’atelier se déroule à la Maison du Zéro Déchet (1 passage Emma Calvé\, Paris 12). \n\n\n\n\n  \n\nInformations pratiques\nINSCRIPTIONS OBLIGATOIRES (cliquez juste ici)\nCet événement se déroulera à La Maison du Zéro Déchet – 1 passage Emma Calvé\, 75012 Paris. \nAccès métro : Reuilly-Diderot\, Faidherbe-Chaligny et Nation. \nVotre inscription vous engage : si vous réservez une place et que vous venez pas\, vous empêchez une personne motivée de participer à l’événement. Merci de nous prévenir minimum 48h à l’avance si tel est le cas. \nPUBLIC : Atelier adulte à partir de 16 ans\, Atelier jeunes de 10 à 15 ans \nPour cet atelier\, les animateurs interviennent à titre bénévole en tant que membres actifs de l’association.
URL:https://lamaisonduzerodechet.org/evenements/la-fresque-du-climat/
LOCATION:La Maison du Zéro Déchet\, 1\, passage Emma Calvé\, Paris\, 75012\, France
CATEGORIES:Atelier pratique
ATTACH;FMTTYPE=image/jpeg:https://lamaisonduzerodechet.org/wp-content/uploads/2022/05/Bannière-sitePublication-FB-20.jpg
END:VEVENT
END:VCALENDAR